Back to Build/check report for BioC 3.14 experimental data
ABCDEFGHIJKLMNOPQR[S]TUVWXYZ

This page was generated on 2021-10-23 15:51:47 -0400 (Sat, 23 Oct 2021).

BUILD results for SBGNview.data on nebbiolo2

To the developers/maintainers of the SBGNview.data package:
Make sure to use the following settings in order to reproduce any error or warning you see on this page.

raw results

Package 334/408HostnameOS / ArchINSTALLBUILDCHECK
SBGNview.data 1.7.0  (landing page)
Weijun Luo
Snapshot Date: 2021-10-23 09:30:01 -0400 (Sat, 23 Oct 2021)
git_url: https://git.bioconductor.org/packages/SBGNview.data
git_branch: master
git_last_commit: c173d9d
git_last_commit_date: 2021-05-19 12:08:54 -0400 (Wed, 19 May 2021)
nebbiolo2Linux (Ubuntu 20.04.2 LTS) / x86_64  OK    OK    OK  UNNEEDED, same version is already published

Summary

Package: SBGNview.data
Version: 1.7.0
Command: /home/biocbuild/bbs-3.14-bioc/R/bin/R CMD build --keep-empty-dirs --no-resave-data SBGNview.data
StartedAt: 2021-10-23 11:34:25 -0400 (Sat, 23 Oct 2021)
EndedAt: 2021-10-23 11:35:22 -0400 (Sat, 23 Oct 2021)
EllapsedTime: 56.7 seconds
RetCode: 0
Status:   OK  
PackageFile: SBGNview.data_1.7.0.tar.gz
PackageFileSize: 65.92 MiB

Command output

##############################################################################
##############################################################################
###
### Running command:
###
###   /home/biocbuild/bbs-3.14-bioc/R/bin/R CMD build --keep-empty-dirs --no-resave-data SBGNview.data
###
##############################################################################
##############################################################################


* checking for file ‘SBGNview.data/DESCRIPTION’ ... OK
* preparing ‘SBGNview.data’:
* checking DESCRIPTION meta-information ... OK
* installing the package to build vignettes
* creating vignettes ... OK
* checking for LF line-endings in source and make files and shell scripts
* checking for empty or unneeded directories
* looking to see if a ‘data/datalist’ file should be added
* building ‘SBGNview.data_1.7.0.tar.gz’