Back to Build/check report for BioC 3.14 experimental data
ABCDEFGHIJKLMNOPQ[R]STUVWXYZ

This page was generated on 2021-10-23 15:51:47 -0400 (Sat, 23 Oct 2021).

INSTALL results for RnBeads.mm10 on nebbiolo2

To the developers/maintainers of the RnBeads.mm10 package:
Make sure to use the following settings in order to reproduce any error or warning you see on this page.

raw results

Package 318/408HostnameOS / ArchINSTALLBUILDCHECK
RnBeads.mm10 2.1.1  (landing page)
RnBeads Team
Snapshot Date: 2021-10-23 09:30:01 -0400 (Sat, 23 Oct 2021)
git_url: https://git.bioconductor.org/packages/RnBeads.mm10
git_branch: master
git_last_commit: 522f8d9
git_last_commit_date: 2021-10-11 16:39:50 -0400 (Mon, 11 Oct 2021)
nebbiolo2Linux (Ubuntu 20.04.2 LTS) / x86_64  OK    OK    OK  UNNEEDED, same version is already published

Summary

Package: RnBeads.mm10
Version: 2.1.1
Command: /home/biocbuild/bbs-3.14-bioc/R/bin/R CMD INSTALL RnBeads.mm10
StartedAt: 2021-10-23 11:01:18 -0400 (Sat, 23 Oct 2021)
EndedAt: 2021-10-23 11:01:26 -0400 (Sat, 23 Oct 2021)
EllapsedTime: 7.7 seconds
RetCode: 0
Status:   OK  

Command output

##############################################################################
##############################################################################
###
### Running command:
###
###   /home/biocbuild/bbs-3.14-bioc/R/bin/R CMD INSTALL RnBeads.mm10
###
##############################################################################
##############################################################################


* installing to library ‘/home/biocbuild/bbs-3.14-bioc/R/library’
* installing *source* package ‘RnBeads.mm10’ ...
** using staged installation
** R
** data
** inst
** byte-compile and prepare package for lazy loading
** help
*** installing help indices
** building package indices
** testing if installed package can be loaded from temporary location
** testing if installed package can be loaded from final location
** testing if installed package keeps a record of temporary installation path
* DONE (RnBeads.mm10)