Back to Build/check report for BioC 3.15 experimental data
ABCDEFGHIJKLMNOPQ[R]STUVWXYZ

This page was generated on 2021-10-26 15:49:12 -0400 (Tue, 26 Oct 2021).

All results for package RnBeads.mm10

To the developers/maintainers of the RnBeads.mm10 package:
Make sure to use the following settings in order to reproduce any error or warning you see on this page.

raw results

Package 314/403HostnameOS / ArchINSTALLBUILDCHECK
RnBeads.mm10 2.1.1  (landing page)
RnBeads Team
Snapshot Date: 2021-10-26 09:30:01 -0400 (Tue, 26 Oct 2021)
git_url: https://git.bioconductor.org/packages/RnBeads.mm10
git_branch: master
git_last_commit: 522f8d9
git_last_commit_date: 2021-10-11 16:39:50 -0400 (Mon, 11 Oct 2021)
nebbiolo1Linux (Ubuntu 20.04.2 LTS) / x86_64  OK    ERROR  skipped