Back to Build/check report for BioC 3.14 experimental data
ABCDEFGHIJKLMNOPQ[R]STUVWXYZ

This page was generated on 2021-10-16 15:51:46 -0400 (Sat, 16 Oct 2021).

BUILD results for RnBeads.hg19 on nebbiolo2

To the developers/maintainers of the RnBeads.hg19 package:
Make sure to use the following settings in order to reproduce any error or warning you see on this page.

raw results

Package 313/404HostnameOS / ArchINSTALLBUILDCHECK
RnBeads.hg19 1.25.0  (landing page)
RnBeadsAnnotationCreator
Snapshot Date: 2021-10-16 09:30:02 -0400 (Sat, 16 Oct 2021)
git_url: https://git.bioconductor.org/packages/RnBeads.hg19
git_branch: master
git_last_commit: 0216ff6
git_last_commit_date: 2021-05-19 11:51:14 -0400 (Wed, 19 May 2021)
nebbiolo2Linux (Ubuntu 20.04.2 LTS) / x86_64  OK    OK    WARNINGS  UNNEEDED, same version is already published

Summary

Package: RnBeads.hg19
Version: 1.25.0
Command: /home/biocbuild/bbs-3.14-bioc/R/bin/R CMD build --keep-empty-dirs --no-resave-data RnBeads.hg19
StartedAt: 2021-10-16 11:31:17 -0400 (Sat, 16 Oct 2021)
EndedAt: 2021-10-16 11:31:23 -0400 (Sat, 16 Oct 2021)
EllapsedTime: 6.2 seconds
RetCode: 0
Status:   OK  
PackageFile: RnBeads.hg19_1.25.0.tar.gz
PackageFileSize: 100.1 MiB

Command output

##############################################################################
##############################################################################
###
### Running command:
###
###   /home/biocbuild/bbs-3.14-bioc/R/bin/R CMD build --keep-empty-dirs --no-resave-data RnBeads.hg19
###
##############################################################################
##############################################################################


* checking for file ‘RnBeads.hg19/DESCRIPTION’ ... OK
* preparing ‘RnBeads.hg19’:
* checking DESCRIPTION meta-information ... OK
* checking for LF line-endings in source and make files and shell scripts
* checking for empty or unneeded directories
* looking to see if a ‘data/datalist’ file should be added
* building ‘RnBeads.hg19_1.25.0.tar.gz’