Back to Build/check report for BioC 3.15 experimental data
ABCDEFGHIJKLMNOPQ[R]STUVWXYZ

This page was generated on 2021-12-05 17:50:12 -0500 (Sun, 05 Dec 2021).

BUILD results for RegParallel on nebbiolo2

To the developers/maintainers of the RegParallel package:
Make sure to use the following settings in order to reproduce any error or warning you see on this page.

raw results

Package 301/404HostnameOS / ArchINSTALLBUILDCHECK
RegParallel 1.13.0  (landing page)
Kevin Blighe
Snapshot Date: 2021-12-05 07:30:02 -0500 (Sun, 05 Dec 2021)
git_url: https://git.bioconductor.org/packages/RegParallel
git_branch: master
git_last_commit: 446dbea
git_last_commit_date: 2021-10-26 12:33:45 -0500 (Tue, 26 Oct 2021)
nebbiolo2Linux (Ubuntu 20.04.3 LTS) / x86_64  OK    OK    OK  UNNEEDED, same version is already published

Summary

Package: RegParallel
Version: 1.13.0
Command: /home/biocbuild/bbs-3.15-data-experiment/R/bin/R CMD build --keep-empty-dirs --no-resave-data RegParallel
StartedAt: 2021-12-05 13:28:46 -0500 (Sun, 05 Dec 2021)
EndedAt: 2021-12-05 13:34:47 -0500 (Sun, 05 Dec 2021)
EllapsedTime: 361.5 seconds
RetCode: 0
Status:   OK  
PackageFile: RegParallel_1.13.0.tar.gz
PackageFileSize: 567.2 KiB

Command output

##############################################################################
##############################################################################
###
### Running command:
###
###   /home/biocbuild/bbs-3.15-data-experiment/R/bin/R CMD build --keep-empty-dirs --no-resave-data RegParallel
###
##############################################################################
##############################################################################


* checking for file ‘RegParallel/DESCRIPTION’ ... OK
* preparing ‘RegParallel’:
* checking DESCRIPTION meta-information ... OK
* installing the package to build vignettes
* creating vignettes ... OK
* checking for LF line-endings in source and make files and shell scripts
* checking for empty or unneeded directories
* building ‘RegParallel_1.13.0.tar.gz’