Back to Build/check report for BioC 3.14 experimental data
ABCDEFGHIJKLMNOPQ[R]STUVWXYZ

This page was generated on 2021-10-21 15:52:03 -0400 (Thu, 21 Oct 2021).

All results for package ReactomeGSA.data

To the developers/maintainers of the ReactomeGSA.data package:
Make sure to use the following settings in order to reproduce any error or warning you see on this page.

raw results

Package 301/406HostnameOS / ArchINSTALLBUILDCHECK
ReactomeGSA.data 1.7.0  (landing page)
Johannes Griss
Snapshot Date: 2021-10-21 09:30:01 -0400 (Thu, 21 Oct 2021)
git_url: https://git.bioconductor.org/packages/ReactomeGSA.data
git_branch: master
git_last_commit: 2d318dc
git_last_commit_date: 2021-05-19 12:09:11 -0400 (Wed, 19 May 2021)
nebbiolo2Linux (Ubuntu 20.04.2 LTS) / x86_64  OK    OK    OK  UNNEEDED, same version is already published