Index of /checkResults/devel/data-experiment-LATEST/RcisTarget.hg19.motifDBs.cisbpOnly.500bp/raw-results/nebbiolo2

[ICO]NameLast modifiedSizeDescription

[DIR]Parent Directory  -  
[TXT]buildsrc-out.txt01-Jul-2022 03:50 929  
[   ]buildsrc-summary.dcf01-Jul-2022 03:50 516  
[TXT]checksrc-out.txt01-Jul-2022 03:50 2.9K 
[   ]checksrc-summary.dcf01-Jul-2022 03:50 555  
[TXT]install-out.txt01-Jul-2022 03:50 964  
[   ]install-summary.dcf01-Jul-2022 03:50 324