Back to Build/check report for BioC 3.14 experimental data
ABCDEFGHIJKLMNOPQ[R]STUVWXYZ

This page was generated on 2021-10-23 15:51:47 -0400 (Sat, 23 Oct 2021).

BUILD results for RcisTarget.hg19.motifDBs.cisbpOnly.500bp on nebbiolo2

To the developers/maintainers of the RcisTarget.hg19.motifDBs.cisbpOnly.500bp package:
Make sure to use the following settings in order to reproduce any error or warning you see on this page.

raw results

Package 301/408HostnameOS / ArchINSTALLBUILDCHECK
RcisTarget.hg19.motifDBs.cisbpOnly.500bp 1.13.0  (landing page)
Sara Aibar
Snapshot Date: 2021-10-23 09:30:01 -0400 (Sat, 23 Oct 2021)
git_url: https://git.bioconductor.org/packages/RcisTarget.hg19.motifDBs.cisbpOnly.500bp
git_branch: master
git_last_commit: 7957574
git_last_commit_date: 2021-05-19 12:03:51 -0400 (Wed, 19 May 2021)
nebbiolo2Linux (Ubuntu 20.04.2 LTS) / x86_64  OK    OK    OK  UNNEEDED, same version is already published

Summary

Package: RcisTarget.hg19.motifDBs.cisbpOnly.500bp
Version: 1.13.0
Command: /home/biocbuild/bbs-3.14-bioc/R/bin/R CMD build --keep-empty-dirs --no-resave-data RcisTarget.hg19.motifDBs.cisbpOnly.500bp
StartedAt: 2021-10-23 11:32:25 -0400 (Sat, 23 Oct 2021)
EndedAt: 2021-10-23 11:32:35 -0400 (Sat, 23 Oct 2021)
EllapsedTime: 9.9 seconds
RetCode: 0
Status:   OK  
PackageFile: RcisTarget.hg19.motifDBs.cisbpOnly.500bp_1.13.0.tar.gz
PackageFileSize: 53.48 MiB

Command output

##############################################################################
##############################################################################
###
### Running command:
###
###   /home/biocbuild/bbs-3.14-bioc/R/bin/R CMD build --keep-empty-dirs --no-resave-data RcisTarget.hg19.motifDBs.cisbpOnly.500bp
###
##############################################################################
##############################################################################


* checking for file ‘RcisTarget.hg19.motifDBs.cisbpOnly.500bp/DESCRIPTION’ ... OK
* preparing ‘RcisTarget.hg19.motifDBs.cisbpOnly.500bp’:
* checking DESCRIPTION meta-information ... OK
* checking for LF line-endings in source and make files and shell scripts
* checking for empty or unneeded directories
* looking to see if a ‘data/datalist’ file should be added
* building ‘RcisTarget.hg19.motifDBs.cisbpOnly.500bp_1.13.0.tar.gz’