Back to Build/check report for BioC 3.14 experimental data
ABCDEFGHIJKLMNOPQ[R]STUVWXYZ

This page was generated on 2021-10-16 15:51:45 -0400 (Sat, 16 Oct 2021).

All results for package RTCGA.rnaseq

To the developers/maintainers of the RTCGA.rnaseq package:
Make sure to use the following settings in order to reproduce any error or warning you see on this page.

raw results

Package 327/404HostnameOS / ArchINSTALLBUILDCHECK
RTCGA.rnaseq 20151101.23.1  (landing page)
Marcin Kosinski
Snapshot Date: 2021-10-16 09:30:02 -0400 (Sat, 16 Oct 2021)
git_url: https://git.bioconductor.org/packages/RTCGA.rnaseq
git_branch: master
git_last_commit: d6c0274
git_last_commit_date: 2021-09-13 03:42:28 -0400 (Mon, 13 Sep 2021)
nebbiolo2Linux (Ubuntu 20.04.2 LTS) / x86_64  OK    OK    WARNINGS  UNNEEDED, same version is already published