Back to Build/check report for BioC 3.15 experimental data
ABCDEFGHIJKLMNOPQ[R]STUVWXYZ

This page was generated on 2021-12-05 17:50:12 -0500 (Sun, 05 Dec 2021).

INSTALL results for RTCGA.miRNASeq on nebbiolo2

To the developers/maintainers of the RTCGA.miRNASeq package:
Make sure to use the following settings in order to reproduce any error or warning you see on this page.

raw results

Package 323/404HostnameOS / ArchINSTALLBUILDCHECK
RTCGA.miRNASeq 1.23.0  (landing page)
Marcin Kosinski
Snapshot Date: 2021-12-05 07:30:02 -0500 (Sun, 05 Dec 2021)
git_url: https://git.bioconductor.org/packages/RTCGA.miRNASeq
git_branch: master
git_last_commit: 2422780
git_last_commit_date: 2021-10-26 12:20:23 -0500 (Tue, 26 Oct 2021)
nebbiolo2Linux (Ubuntu 20.04.3 LTS) / x86_64  OK    OK    WARNINGS  UNNEEDED, same version is already published

Summary

Package: RTCGA.miRNASeq
Version: 1.23.0
Command: /home/biocbuild/bbs-3.15-data-experiment/R/bin/R CMD INSTALL RTCGA.miRNASeq
StartedAt: 2021-12-05 13:07:00 -0500 (Sun, 05 Dec 2021)
EndedAt: 2021-12-05 13:08:45 -0500 (Sun, 05 Dec 2021)
EllapsedTime: 105.9 seconds
RetCode: 0
Status:   OK  

Command output

##############################################################################
##############################################################################
###
### Running command:
###
###   /home/biocbuild/bbs-3.15-data-experiment/R/bin/R CMD INSTALL RTCGA.miRNASeq
###
##############################################################################
##############################################################################


* installing to library ‘/home/biocbuild/bbs-3.15-data-experiment/R/library’
* installing *source* package ‘RTCGA.miRNASeq’ ...
** using staged installation
** R
** data
*** moving datasets to lazyload DB
** byte-compile and prepare package for lazy loading
** help
*** installing help indices
** building package indices
** installing vignettes
** testing if installed package can be loaded from temporary location
** testing if installed package can be loaded from final location
** testing if installed package keeps a record of temporary installation path
* DONE (RTCGA.miRNASeq)