Back to Build/check report for BioC 3.14 experimental data
ABCDEFGHIJKLMNOPQ[R]STUVWXYZ

This page was generated on 2021-10-16 15:51:46 -0400 (Sat, 16 Oct 2021).

BUILD results for RTCGA.miRNASeq on nebbiolo2

To the developers/maintainers of the RTCGA.miRNASeq package:
Make sure to use the following settings in order to reproduce any error or warning you see on this page.

raw results

Package 323/404HostnameOS / ArchINSTALLBUILDCHECK
RTCGA.miRNASeq 1.21.1  (landing page)
Marcin Kosinski
Snapshot Date: 2021-10-16 09:30:02 -0400 (Sat, 16 Oct 2021)
git_url: https://git.bioconductor.org/packages/RTCGA.miRNASeq
git_branch: master
git_last_commit: 5d324ec
git_last_commit_date: 2021-09-10 07:00:33 -0400 (Fri, 10 Sep 2021)
nebbiolo2Linux (Ubuntu 20.04.2 LTS) / x86_64  OK    OK    WARNINGS  UNNEEDED, same version is already published

Summary

Package: RTCGA.miRNASeq
Version: 1.21.1
Command: /home/biocbuild/bbs-3.14-bioc/R/bin/R CMD build --keep-empty-dirs --no-resave-data RTCGA.miRNASeq
StartedAt: 2021-10-16 11:31:43 -0400 (Sat, 16 Oct 2021)
EndedAt: 2021-10-16 11:33:42 -0400 (Sat, 16 Oct 2021)
EllapsedTime: 118.9 seconds
RetCode: 0
Status:   OK  
PackageFile: RTCGA.miRNASeq_1.21.1.tar.gz
PackageFileSize: 45.24 MiB

Command output

##############################################################################
##############################################################################
###
### Running command:
###
###   /home/biocbuild/bbs-3.14-bioc/R/bin/R CMD build --keep-empty-dirs --no-resave-data RTCGA.miRNASeq
###
##############################################################################
##############################################################################


* checking for file ‘RTCGA.miRNASeq/DESCRIPTION’ ... OK
* preparing ‘RTCGA.miRNASeq’:
* checking DESCRIPTION meta-information ... OK
* installing the package to build vignettes
* creating vignettes ... OK
* checking for LF line-endings in source and make files and shell scripts
* checking for empty or unneeded directories
* building ‘RTCGA.miRNASeq_1.21.1.tar.gz’