Back to Build/check report for BioC 3.14 experimental data
ABCDEFGHIJKLMNOPQ[R]STUVWXYZ

This page was generated on 2021-10-23 15:51:47 -0400 (Sat, 23 Oct 2021).

BUILD results for RTCGA.mRNA on nebbiolo2

To the developers/maintainers of the RTCGA.mRNA package:
Make sure to use the following settings in order to reproduce any error or warning you see on this page.

raw results

Package 327/408HostnameOS / ArchINSTALLBUILDCHECK
RTCGA.mRNA 1.21.1  (landing page)
Marcin Kosinski
Snapshot Date: 2021-10-23 09:30:01 -0400 (Sat, 23 Oct 2021)
git_url: https://git.bioconductor.org/packages/RTCGA.mRNA
git_branch: master
git_last_commit: f5d1204
git_last_commit_date: 2021-09-10 07:27:49 -0400 (Fri, 10 Sep 2021)
nebbiolo2Linux (Ubuntu 20.04.2 LTS) / x86_64  OK    OK    WARNINGS  UNNEEDED, same version is already published

Summary

Package: RTCGA.mRNA
Version: 1.21.1
Command: /home/biocbuild/bbs-3.14-bioc/R/bin/R CMD build --keep-empty-dirs --no-resave-data RTCGA.mRNA
StartedAt: 2021-10-23 11:33:58 -0400 (Sat, 23 Oct 2021)
EndedAt: 2021-10-23 11:34:47 -0400 (Sat, 23 Oct 2021)
EllapsedTime: 49.0 seconds
RetCode: 0
Status:   OK  
PackageFile: RTCGA.mRNA_1.21.1.tar.gz
PackageFileSize: 84.98 MiB

Command output

##############################################################################
##############################################################################
###
### Running command:
###
###   /home/biocbuild/bbs-3.14-bioc/R/bin/R CMD build --keep-empty-dirs --no-resave-data RTCGA.mRNA
###
##############################################################################
##############################################################################


* checking for file ‘RTCGA.mRNA/DESCRIPTION’ ... OK
* preparing ‘RTCGA.mRNA’:
* checking DESCRIPTION meta-information ... OK
* installing the package to build vignettes
* creating vignettes ... OK
* checking for LF line-endings in source and make files and shell scripts
* checking for empty or unneeded directories
* building ‘RTCGA.mRNA_1.21.1.tar.gz’