Back to Build/check report for BioC 3.14 experimental data
ABCDEFGHIJKLMNOPQ[R]STUVWXYZ

This page was generated on 2021-10-21 15:52:03 -0400 (Thu, 21 Oct 2021).

INSTALL results for RTCGA.CNV on nebbiolo2

To the developers/maintainers of the RTCGA.CNV package:
Make sure to use the following settings in order to reproduce any error or warning you see on this page.

raw results

Package 322/406HostnameOS / ArchINSTALLBUILDCHECK
RTCGA.CNV 1.21.1  (landing page)
Marcin Kosinski
Snapshot Date: 2021-10-21 09:30:01 -0400 (Thu, 21 Oct 2021)
git_url: https://git.bioconductor.org/packages/RTCGA.CNV
git_branch: master
git_last_commit: 9215391
git_last_commit_date: 2021-09-09 05:06:24 -0400 (Thu, 09 Sep 2021)
nebbiolo2Linux (Ubuntu 20.04.2 LTS) / x86_64  OK    OK    WARNINGS  UNNEEDED, same version is already published

Summary

Package: RTCGA.CNV
Version: 1.21.1
Command: /home/biocbuild/bbs-3.14-bioc/R/bin/R CMD INSTALL RTCGA.CNV
StartedAt: 2021-10-21 11:06:52 -0400 (Thu, 21 Oct 2021)
EndedAt: 2021-10-21 11:07:08 -0400 (Thu, 21 Oct 2021)
EllapsedTime: 16.2 seconds
RetCode: 0
Status:   OK  

Command output

##############################################################################
##############################################################################
###
### Running command:
###
###   /home/biocbuild/bbs-3.14-bioc/R/bin/R CMD INSTALL RTCGA.CNV
###
##############################################################################
##############################################################################


* installing to library ‘/home/biocbuild/bbs-3.14-bioc/R/library’
* installing *source* package ‘RTCGA.CNV’ ...
** using staged installation
** R
** data
*** moving datasets to lazyload DB
** byte-compile and prepare package for lazy loading
** help
*** installing help indices
** building package indices
** installing vignettes
** testing if installed package can be loaded from temporary location
** testing if installed package can be loaded from final location
** testing if installed package keeps a record of temporary installation path
* DONE (RTCGA.CNV)