Back to Build/check report for BioC 3.14 experimental data
ABCDEFGHIJKLMNOPQ[R]STUVWXYZ

This page was generated on 2021-10-23 15:51:47 -0400 (Sat, 23 Oct 2021).

INSTALL results for RNAseqData.HNRNPC.bam.chr14 on nebbiolo2

To the developers/maintainers of the RNAseqData.HNRNPC.bam.chr14 package:
Make sure to use the following settings in order to reproduce any error or warning you see on this page.

raw results

Package 313/408HostnameOS / ArchINSTALLBUILDCHECK
RNAseqData.HNRNPC.bam.chr14 0.31.0  (landing page)
Hervé Pagès
Snapshot Date: 2021-10-23 09:30:01 -0400 (Sat, 23 Oct 2021)
git_url: https://git.bioconductor.org/packages/RNAseqData.HNRNPC.bam.chr14
git_branch: master
git_last_commit: b92b3ec
git_last_commit_date: 2021-05-19 11:40:45 -0400 (Wed, 19 May 2021)
nebbiolo2Linux (Ubuntu 20.04.2 LTS) / x86_64  OK    OK    OK  UNNEEDED, same version is already published

Summary

Package: RNAseqData.HNRNPC.bam.chr14
Version: 0.31.0
Command: /home/biocbuild/bbs-3.14-bioc/R/bin/R CMD INSTALL RNAseqData.HNRNPC.bam.chr14
StartedAt: 2021-10-23 11:00:15 -0400 (Sat, 23 Oct 2021)
EndedAt: 2021-10-23 11:00:17 -0400 (Sat, 23 Oct 2021)
EllapsedTime: 1.7 seconds
RetCode: 0
Status:   OK  

Command output

##############################################################################
##############################################################################
###
### Running command:
###
###   /home/biocbuild/bbs-3.14-bioc/R/bin/R CMD INSTALL RNAseqData.HNRNPC.bam.chr14
###
##############################################################################
##############################################################################


* installing to library ‘/home/biocbuild/bbs-3.14-bioc/R/library’
* installing *source* package ‘RNAseqData.HNRNPC.bam.chr14’ ...
** using staged installation
** R
** inst
** byte-compile and prepare package for lazy loading
** help
*** installing help indices
** building package indices
** testing if installed package can be loaded from temporary location
** testing if installed package can be loaded from final location
** testing if installed package keeps a record of temporary installation path
* DONE (RNAseqData.HNRNPC.bam.chr14)