Back to Build/check report for BioC 3.15 experimental data
ABCDEFGHIJKLMNOPQ[R]STUVWXYZ

This page was generated on 2021-12-05 17:50:12 -0500 (Sun, 05 Dec 2021).

INSTALL results for RMassBankData on nebbiolo2

To the developers/maintainers of the RMassBankData package:
Make sure to use the following settings in order to reproduce any error or warning you see on this page.

raw results

Package 307/404HostnameOS / ArchINSTALLBUILDCHECK
RMassBankData 1.33.0  (landing page)
Michael Stravs, Emma Schymanski
Snapshot Date: 2021-12-05 07:30:02 -0500 (Sun, 05 Dec 2021)
git_url: https://git.bioconductor.org/packages/RMassBankData
git_branch: master
git_last_commit: a064378
git_last_commit_date: 2021-10-26 11:49:31 -0500 (Tue, 26 Oct 2021)
nebbiolo2Linux (Ubuntu 20.04.3 LTS) / x86_64  OK    OK    OK  UNNEEDED, same version is already published

Summary

Package: RMassBankData
Version: 1.33.0
Command: /home/biocbuild/bbs-3.15-data-experiment/R/bin/R CMD INSTALL RMassBankData
StartedAt: 2021-12-05 13:00:08 -0500 (Sun, 05 Dec 2021)
EndedAt: 2021-12-05 13:00:12 -0500 (Sun, 05 Dec 2021)
EllapsedTime: 3.9 seconds
RetCode: 0
Status:   OK  

Command output

##############################################################################
##############################################################################
###
### Running command:
###
###   /home/biocbuild/bbs-3.15-data-experiment/R/bin/R CMD INSTALL RMassBankData
###
##############################################################################
##############################################################################


* installing to library ‘/home/biocbuild/bbs-3.15-data-experiment/R/library’
* installing *source* package ‘RMassBankData’ ...
** using staged installation
** R
** inst
** byte-compile and prepare package for lazy loading
** help
*** installing help indices
** building package indices
** testing if installed package can be loaded from temporary location
** testing if installed package can be loaded from final location
** testing if installed package keeps a record of temporary installation path
* DONE (RMassBankData)