Back to Build/check report for BioC 3.15 experimental data
ABCDEFGHIJKLMNOPQ[R]STUVWXYZ

This page was generated on 2021-12-05 17:50:12 -0500 (Sun, 05 Dec 2021).

CHECK results for RMassBankData on nebbiolo2

To the developers/maintainers of the RMassBankData package:
Make sure to use the following settings in order to reproduce any error or warning you see on this page.

raw results

Package 307/404HostnameOS / ArchINSTALLBUILDCHECK
RMassBankData 1.33.0  (landing page)
Michael Stravs, Emma Schymanski
Snapshot Date: 2021-12-05 07:30:02 -0500 (Sun, 05 Dec 2021)
git_url: https://git.bioconductor.org/packages/RMassBankData
git_branch: master
git_last_commit: a064378
git_last_commit_date: 2021-10-26 11:49:31 -0500 (Tue, 26 Oct 2021)
nebbiolo2Linux (Ubuntu 20.04.3 LTS) / x86_64  OK    OK    OK  UNNEEDED, same version is already published

Summary

Package: RMassBankData
Version: 1.33.0
Command: /home/biocbuild/bbs-3.15-data-experiment/R/bin/R CMD check --install=check:RMassBankData.install-out.txt --library=/home/biocbuild/bbs-3.15-data-experiment/R/library --no-vignettes --timings RMassBankData_1.33.0.tar.gz
StartedAt: 2021-12-05 14:01:58 -0500 (Sun, 05 Dec 2021)
EndedAt: 2021-12-05 14:02:17 -0500 (Sun, 05 Dec 2021)
EllapsedTime: 19.1 seconds
RetCode: 0
Status:   OK  
CheckDir: RMassBankData.Rcheck
Warnings: 0

Command output

##############################################################################
##############################################################################
###
### Running command:
###
###   /home/biocbuild/bbs-3.15-data-experiment/R/bin/R CMD check --install=check:RMassBankData.install-out.txt --library=/home/biocbuild/bbs-3.15-data-experiment/R/library --no-vignettes --timings RMassBankData_1.33.0.tar.gz
###
##############################################################################
##############################################################################


* using log directory ‘/home/biocbuild/bbs-3.15-data-experiment/meat/RMassBankData.Rcheck’
* using R Under development (unstable) (2021-11-16 r81199)
* using platform: x86_64-pc-linux-gnu (64-bit)
* using session charset: UTF-8
* using option ‘--no-vignettes’
* checking for file ‘RMassBankData/DESCRIPTION’ ... OK
* checking extension type ... Package
* this is package ‘RMassBankData’ version ‘1.33.0’
* checking package namespace information ... OK
* checking package dependencies ... OK
* checking if this is a source package ... OK
* checking if there is a namespace ... OK
* checking for hidden files and directories ... OK
* checking for portable file names ... OK
* checking for sufficient/correct file permissions ... OK
* checking whether package ‘RMassBankData’ can be installed ... OK
* checking installed package size ... NOTE
  installed size is 267.2Mb
  sub-directories of 1Mb or more:
    results   18.0Mb
    spectra  248.7Mb
* checking package directory ... OK
* checking DESCRIPTION meta-information ... OK
* checking top-level files ... OK
* checking for left-over files ... OK
* checking index information ... OK
* checking package subdirectories ... OK
* checking R files for non-ASCII characters ... OK
* checking R files for syntax errors ... OK
* checking whether the package can be loaded ... OK
* checking whether the package can be loaded with stated dependencies ... OK
* checking whether the package can be unloaded cleanly ... OK
* checking whether the namespace can be loaded with stated dependencies ... OK
* checking whether the namespace can be unloaded cleanly ... OK
* checking dependencies in R code ... OK
* checking S3 generic/method consistency ... OK
* checking replacement functions ... OK
* checking foreign function calls ... OK
* checking R code for possible problems ... OK
* checking Rd files ... OK
* checking Rd metadata ... OK
* checking Rd cross-references ... OK
* checking for missing documentation entries ... OK
* checking for code/documentation mismatches ... OK
* checking Rd \usage sections ... OK
* checking Rd contents ... OK
* checking for unstated dependencies in examples ... OK
* checking examples ... NONE
* checking PDF version of manual ... OK
* DONE

Status: 1 NOTE
See
  ‘/home/biocbuild/bbs-3.15-data-experiment/meat/RMassBankData.Rcheck/00check.log’
for details.



Installation output

RMassBankData.Rcheck/00install.out

##############################################################################
##############################################################################
###
### Running command:
###
###   /home/biocbuild/bbs-3.15-data-experiment/R/bin/R CMD INSTALL RMassBankData
###
##############################################################################
##############################################################################


* installing to library ‘/home/biocbuild/bbs-3.15-data-experiment/R/library’
* installing *source* package ‘RMassBankData’ ...
** using staged installation
** R
** inst
** byte-compile and prepare package for lazy loading
** help
*** installing help indices
** building package indices
** testing if installed package can be loaded from temporary location
** testing if installed package can be loaded from final location
** testing if installed package keeps a record of temporary installation path
* DONE (RMassBankData)

Tests output


Example timings