Back to Build/check report for BioC 3.14 experimental data
ABCDEFGHIJKLMNOPQ[R]STUVWXYZ

This page was generated on 2021-10-23 15:51:47 -0400 (Sat, 23 Oct 2021).

INSTALL results for RITANdata on nebbiolo2

To the developers/maintainers of the RITANdata package:
Make sure to use the following settings in order to reproduce any error or warning you see on this page.

raw results

Package 308/408HostnameOS / ArchINSTALLBUILDCHECK
RITANdata 1.17.1  (landing page)
Michael Zimmermann
Snapshot Date: 2021-10-23 09:30:01 -0400 (Sat, 23 Oct 2021)
git_url: https://git.bioconductor.org/packages/RITANdata
git_branch: master
git_last_commit: f256282
git_last_commit_date: 2021-08-11 10:37:23 -0400 (Wed, 11 Aug 2021)
nebbiolo2Linux (Ubuntu 20.04.2 LTS) / x86_64  OK    OK    WARNINGS  UNNEEDED, same version is already published

Summary

Package: RITANdata
Version: 1.17.1
Command: /home/biocbuild/bbs-3.14-bioc/R/bin/R CMD INSTALL RITANdata
StartedAt: 2021-10-23 11:00:12 -0400 (Sat, 23 Oct 2021)
EndedAt: 2021-10-23 11:00:19 -0400 (Sat, 23 Oct 2021)
EllapsedTime: 6.8 seconds
RetCode: 0
Status:   OK  

Command output

##############################################################################
##############################################################################
###
### Running command:
###
###   /home/biocbuild/bbs-3.14-bioc/R/bin/R CMD INSTALL RITANdata
###
##############################################################################
##############################################################################


* installing to library ‘/home/biocbuild/bbs-3.14-bioc/R/library’
* installing *source* package ‘RITANdata’ ...
** using staged installation
** R
** data
*** moving datasets to lazyload DB
** inst
** byte-compile and prepare package for lazy loading
** help
*** installing help indices
** building package indices
** installing vignettes
** testing if installed package can be loaded from temporary location
Warning: Package 'RITANdata' is deprecated and will be removed from Bioconductor
  version 3.15
** testing if installed package can be loaded from final location
Warning: Package 'RITANdata' is deprecated and will be removed from Bioconductor
  version 3.15
** testing if installed package keeps a record of temporary installation path
* DONE (RITANdata)