Back to Build/check report for BioC 3.14 experimental data
ABCDEFGHIJKLMNOPQ[R]STUVWXYZ

This page was generated on 2021-10-19 15:52:17 -0400 (Tue, 19 Oct 2021).

All results for package RITANdata

To the developers/maintainers of the RITANdata package:
Make sure to use the following settings in order to reproduce any error or warning you see on this page.

raw results

Package 306/404HostnameOS / ArchINSTALLBUILDCHECK
RITANdata 1.17.1  (landing page)
Michael Zimmermann
Snapshot Date: 2021-10-19 09:30:02 -0400 (Tue, 19 Oct 2021)
git_url: https://git.bioconductor.org/packages/RITANdata
git_branch: master
git_last_commit: f256282
git_last_commit_date: 2021-08-11 10:37:23 -0400 (Wed, 11 Aug 2021)
nebbiolo2Linux (Ubuntu 20.04.2 LTS) / x86_64  OK    OK    WARNINGS  UNNEEDED, same version is already published