Back to Build/check report for BioC 3.15 experimental data
ABCDEFGHIJKLMNOP[Q]RSTUVWXYZ

This page was generated on 2021-10-26 15:49:12 -0400 (Tue, 26 Oct 2021).

All results for package QDNAseq.mm10

To the developers/maintainers of the QDNAseq.mm10 package:
Make sure to use the following settings in order to reproduce any error or warning you see on this page.

raw results

Package 294/403HostnameOS / ArchINSTALLBUILDCHECK
QDNAseq.mm10 1.23.0  (landing page)
Daoud Sie
Snapshot Date: 2021-10-26 09:30:01 -0400 (Tue, 26 Oct 2021)
git_url: https://git.bioconductor.org/packages/QDNAseq.mm10
git_branch: master
git_last_commit: 5a49604
git_last_commit_date: 2021-05-19 11:53:07 -0400 (Wed, 19 May 2021)
nebbiolo1Linux (Ubuntu 20.04.2 LTS) / x86_64  OK    OK    OK  NO, package depends on 'QDNAseq' which is not available