Back to Build/check report for BioC 3.14 experimental data
ABCDEFGHIJKLMNO[P]QRSTUVWXYZ

This page was generated on 2021-10-16 15:51:46 -0400 (Sat, 16 Oct 2021).

INSTALL results for ProData on nebbiolo2

To the developers/maintainers of the ProData package:
Make sure to use the following settings in order to reproduce any error or warning you see on this page.

raw results

Package 280/404HostnameOS / ArchINSTALLBUILDCHECK
ProData 1.31.0  (landing page)
Xiaochun Li
Snapshot Date: 2021-10-16 09:30:02 -0400 (Sat, 16 Oct 2021)
git_url: https://git.bioconductor.org/packages/ProData
git_branch: master
git_last_commit: 8ed9722
git_last_commit_date: 2021-05-19 11:25:41 -0400 (Wed, 19 May 2021)
nebbiolo2Linux (Ubuntu 20.04.2 LTS) / x86_64  OK    OK    OK  UNNEEDED, same version is already published

Summary

Package: ProData
Version: 1.31.0
Command: /home/biocbuild/bbs-3.14-bioc/R/bin/R CMD INSTALL ProData
StartedAt: 2021-10-16 11:00:44 -0400 (Sat, 16 Oct 2021)
EndedAt: 2021-10-16 11:00:46 -0400 (Sat, 16 Oct 2021)
EllapsedTime: 2.1 seconds
RetCode: 0
Status:   OK  

Command output

##############################################################################
##############################################################################
###
### Running command:
###
###   /home/biocbuild/bbs-3.14-bioc/R/bin/R CMD INSTALL ProData
###
##############################################################################
##############################################################################


* installing to library ‘/home/biocbuild/bbs-3.14-bioc/R/library’
* installing *source* package ‘ProData’ ...
** using staged installation
** data
** inst
** help
*** installing help indices
** building package indices
** testing if installed package can be loaded from temporary location
** testing if installed package can be loaded from final location
** testing if installed package keeps a record of temporary installation path
* DONE (ProData)