Back to Build/check report for BioC 3.14 experimental data
ABCDEFGHIJKLMNO[P]QRSTUVWXYZ

This page was generated on 2021-10-16 15:51:46 -0400 (Sat, 16 Oct 2021).

BUILD results for PhyloProfileData on nebbiolo2

To the developers/maintainers of the PhyloProfileData package:
Make sure to use the following settings in order to reproduce any error or warning you see on this page.

raw results

Package 273/404HostnameOS / ArchINSTALLBUILDCHECK
PhyloProfileData 1.7.1  (landing page)
Vinh Tran
Snapshot Date: 2021-10-16 09:30:02 -0400 (Sat, 16 Oct 2021)
git_url: https://git.bioconductor.org/packages/PhyloProfileData
git_branch: master
git_last_commit: 395664c
git_last_commit_date: 2021-06-29 12:27:58 -0400 (Tue, 29 Jun 2021)
nebbiolo2Linux (Ubuntu 20.04.2 LTS) / x86_64  OK    OK    OK  UNNEEDED, same version is already published

Summary

Package: PhyloProfileData
Version: 1.7.1
Command: /home/biocbuild/bbs-3.14-bioc/R/bin/R CMD build --keep-empty-dirs --no-resave-data PhyloProfileData
StartedAt: 2021-10-16 11:29:42 -0400 (Sat, 16 Oct 2021)
EndedAt: 2021-10-16 11:30:13 -0400 (Sat, 16 Oct 2021)
EllapsedTime: 30.7 seconds
RetCode: 0
Status:   OK  
PackageFile: PhyloProfileData_1.7.1.tar.gz
PackageFileSize: 225.4 KiB

Command output

##############################################################################
##############################################################################
###
### Running command:
###
###   /home/biocbuild/bbs-3.14-bioc/R/bin/R CMD build --keep-empty-dirs --no-resave-data PhyloProfileData
###
##############################################################################
##############################################################################


* checking for file ‘PhyloProfileData/DESCRIPTION’ ... OK
* preparing ‘PhyloProfileData’:
* checking DESCRIPTION meta-information ... OK
* installing the package to build vignettes
* creating vignettes ... OK
* checking for LF line-endings in source and make files and shell scripts
* checking for empty or unneeded directories
Omitted ‘LazyData’ from DESCRIPTION
* building ‘PhyloProfileData_1.7.1.tar.gz’