Index of /checkResults/devel/data-experiment-LATEST/PepsNMRData/raw-results
Name
Last modified
Size
Description
Parent Directory
-
info.dcf
20-May-2022 03:50
278
nebbiolo2/
20-May-2022 03:50
-