Back to Build/check report for BioC 3.14 experimental data
ABCDEFGHIJKLMNO[P]QRSTUVWXYZ

This page was generated on 2021-10-16 15:51:46 -0400 (Sat, 16 Oct 2021).

BUILD results for PepsNMRData on nebbiolo2

To the developers/maintainers of the PepsNMRData package:
Make sure to use the following settings in order to reproduce any error or warning you see on this page.

raw results

Package 272/404HostnameOS / ArchINSTALLBUILDCHECK
PepsNMRData 1.11.0  (landing page)
Manon Martin
Snapshot Date: 2021-10-16 09:30:02 -0400 (Sat, 16 Oct 2021)
git_url: https://git.bioconductor.org/packages/PepsNMRData
git_branch: master
git_last_commit: 919e6c4
git_last_commit_date: 2021-05-19 12:07:01 -0400 (Wed, 19 May 2021)
nebbiolo2Linux (Ubuntu 20.04.2 LTS) / x86_64  OK    OK    WARNINGS  UNNEEDED, same version is already published

Summary

Package: PepsNMRData
Version: 1.11.0
Command: /home/biocbuild/bbs-3.14-bioc/R/bin/R CMD build --keep-empty-dirs --no-resave-data PepsNMRData
StartedAt: 2021-10-16 11:29:41 -0400 (Sat, 16 Oct 2021)
EndedAt: 2021-10-16 11:29:51 -0400 (Sat, 16 Oct 2021)
EllapsedTime: 10.4 seconds
RetCode: 0
Status:   OK  
PackageFile: PepsNMRData_1.11.0.tar.gz
PackageFileSize: 31.89 MiB

Command output

##############################################################################
##############################################################################
###
### Running command:
###
###   /home/biocbuild/bbs-3.14-bioc/R/bin/R CMD build --keep-empty-dirs --no-resave-data PepsNMRData
###
##############################################################################
##############################################################################


* checking for file ‘PepsNMRData/DESCRIPTION’ ... OK
* preparing ‘PepsNMRData’:
* checking DESCRIPTION meta-information ... OK
* checking for LF line-endings in source and make files and shell scripts
* checking for empty or unneeded directories
* building ‘PepsNMRData_1.11.0.tar.gz’