Back to Build/check report for BioC 3.14 experimental data
ABCDEFGHIJKLMNO[P]QRSTUVWXYZ

This page was generated on 2021-10-19 15:52:18 -0400 (Tue, 19 Oct 2021).

INSTALL results for PWMEnrich.Mmusculus.background on nebbiolo2

To the developers/maintainers of the PWMEnrich.Mmusculus.background package:
Make sure to use the following settings in order to reproduce any error or warning you see on this page.

raw results

Package 292/404HostnameOS / ArchINSTALLBUILDCHECK
PWMEnrich.Mmusculus.background 4.27.1  (landing page)
Diego Diez
Snapshot Date: 2021-10-19 09:30:02 -0400 (Tue, 19 Oct 2021)
git_url: https://git.bioconductor.org/packages/PWMEnrich.Mmusculus.background
git_branch: master
git_last_commit: b15bb04
git_last_commit_date: 2021-07-07 05:06:25 -0400 (Wed, 07 Jul 2021)
nebbiolo2Linux (Ubuntu 20.04.2 LTS) / x86_64  OK    OK    OK  UNNEEDED, same version is already published

Summary

Package: PWMEnrich.Mmusculus.background
Version: 4.27.1
Command: /home/biocbuild/bbs-3.14-bioc/R/bin/R CMD INSTALL PWMEnrich.Mmusculus.background
StartedAt: 2021-10-19 11:01:42 -0400 (Tue, 19 Oct 2021)
EndedAt: 2021-10-19 11:01:49 -0400 (Tue, 19 Oct 2021)
EllapsedTime: 6.9 seconds
RetCode: 0
Status:   OK  

Command output

##############################################################################
##############################################################################
###
### Running command:
###
###   /home/biocbuild/bbs-3.14-bioc/R/bin/R CMD INSTALL PWMEnrich.Mmusculus.background
###
##############################################################################
##############################################################################


* installing to library ‘/home/biocbuild/bbs-3.14-bioc/R/library’
* installing *source* package ‘PWMEnrich.Mmusculus.background’ ...
** using staged installation
** data
** inst
** help
*** installing help indices
** building package indices
** testing if installed package can be loaded from temporary location
** testing if installed package can be loaded from final location
** testing if installed package keeps a record of temporary installation path
* DONE (PWMEnrich.Mmusculus.background)