Index of /checkResults/devel/data-experiment-LATEST/PWMEnrich.Hsapiens.background/raw-results

[ICO]NameLast modifiedSizeDescription

[DIR]Parent Directory  -  
[   ]info.dcf24-Mar-2023 03:51 307  
[DIR]nebbiolo1/24-Mar-2023 03:51 -