Back to Build/check report for BioC 3.16 experimental data
ABCDEFGHIJKLMNO[P]QRSTUVWXYZ

This page was generated on 2022-08-11 14:50:25 -0400 (Thu, 11 Aug 2022).

HostnameOSArch (*)R versionInstalled pkgs
nebbiolo2Linux (Ubuntu 20.04.4 LTS)x86_644.2.1 (2022-06-23) -- "Funny-Looking Kid" 4375
Click on any hostname to see more info about the system (e.g. compilers)      (*) as reported by 'uname -p', except on Windows and Mac OS X

All results for package PWMEnrich.Hsapiens.background


To the developers/maintainers of the PWMEnrich.Hsapiens.background package:
Make sure to use the following settings in order to reproduce any error or warning you see on this page.

raw results

Package 293/409HostnameOS / ArchINSTALLBUILDCHECK
PWMEnrich.Hsapiens.background 4.31.0  (landing page)
Diego Diez
Snapshot Date: 2022-08-11 07:30:02 -0400 (Thu, 11 Aug 2022)
git_url: https://git.bioconductor.org/packages/PWMEnrich.Hsapiens.background
git_branch: master
git_last_commit: de8decc
git_last_commit_date: 2022-04-26 13:11:52 -0400 (Tue, 26 Apr 2022)
nebbiolo2Linux (Ubuntu 20.04.4 LTS) / x86_64  OK    OK    OK  UNNEEDED, same version is already published