Back to Build/check report for BioC 3.14 experimental data
ABCDEFGHIJKLMNO[P]QRSTUVWXYZ

This page was generated on 2021-10-19 15:52:18 -0400 (Tue, 19 Oct 2021).

BUILD results for PCHiCdata on nebbiolo2

To the developers/maintainers of the PCHiCdata package:
Make sure to use the following settings in order to reproduce any error or warning you see on this page.

raw results

Package 268/404HostnameOS / ArchINSTALLBUILDCHECK
PCHiCdata 1.21.1  (landing page)
Paula Freire-Pritchett
Snapshot Date: 2021-10-19 09:30:02 -0400 (Tue, 19 Oct 2021)
git_url: https://git.bioconductor.org/packages/PCHiCdata
git_branch: master
git_last_commit: e7a3a96
git_last_commit_date: 2021-08-11 10:29:24 -0400 (Wed, 11 Aug 2021)
nebbiolo2Linux (Ubuntu 20.04.2 LTS) / x86_64  OK    OK    WARNINGS  UNNEEDED, same version is already published

Summary

Package: PCHiCdata
Version: 1.21.1
Command: /home/biocbuild/bbs-3.14-bioc/R/bin/R CMD build --keep-empty-dirs --no-resave-data PCHiCdata
StartedAt: 2021-10-19 11:30:30 -0400 (Tue, 19 Oct 2021)
EndedAt: 2021-10-19 11:32:09 -0400 (Tue, 19 Oct 2021)
EllapsedTime: 98.7 seconds
RetCode: 0
Status:   OK  
PackageFile: PCHiCdata_1.21.1.tar.gz
PackageFileSize: 183.3 MiB

Command output

##############################################################################
##############################################################################
###
### Running command:
###
###   /home/biocbuild/bbs-3.14-bioc/R/bin/R CMD build --keep-empty-dirs --no-resave-data PCHiCdata
###
##############################################################################
##############################################################################


* checking for file ‘PCHiCdata/DESCRIPTION’ ... OK
* preparing ‘PCHiCdata’:
* checking DESCRIPTION meta-information ... OK
* installing the package to build vignettes
* creating vignettes ... OK
* checking for LF line-endings in source and make files and shell scripts
* checking for empty or unneeded directories
* building ‘PCHiCdata_1.21.1.tar.gz’