Index of /checkResults/devel/data-experiment-LATEST/OnassisJavaLibs/raw-results/nebbiolo2

[ICO]NameLast modifiedSizeDescription

[DIR]Parent Directory  -  
[TXT]buildsrc-out.txt20-Jan-2022 22:37 65K 
[   ]buildsrc-summary.dcf20-Jan-2022 22:37 452  
[TXT]checksrc-out.txt20-Jan-2022 22:37 32K 
[   ]checksrc-summary.dcf20-Jan-2022 22:37 477  
[TXT]install-out.txt20-Jan-2022 22:37 1.0K 
[   ]install-summary.dcf20-Jan-2022 22:37 285