Index of /checkResults/devel/data-experiment-LATEST/OnassisJavaLibs/raw-results

[ICO]NameLast modifiedSizeDescription

[DIR]Parent Directory  -  
[   ]info.dcf09-Dec-2022 04:51 289  
[DIR]nebbiolo1/09-Dec-2022 04:51 -