Back to Build/check report for BioC 3.14 experimental data
ABCDEFGHIJKLMN[O]PQRSTUVWXYZ

This page was generated on 2021-10-16 15:51:46 -0400 (Sat, 16 Oct 2021).

BUILD results for OnassisJavaLibs on nebbiolo2

To the developers/maintainers of the OnassisJavaLibs package:
Make sure to use the following settings in order to reproduce any error or warning you see on this page.

raw results

Package 261/404HostnameOS / ArchINSTALLBUILDCHECK
OnassisJavaLibs 1.15.0  (landing page)
Eugenia Galeota
Snapshot Date: 2021-10-16 09:30:02 -0400 (Sat, 16 Oct 2021)
git_url: https://git.bioconductor.org/packages/OnassisJavaLibs
git_branch: master
git_last_commit: fd4b484
git_last_commit_date: 2021-05-19 12:01:10 -0400 (Wed, 19 May 2021)
nebbiolo2Linux (Ubuntu 20.04.2 LTS) / x86_64  OK    OK    OK  UNNEEDED, same version is already published

Summary

Package: OnassisJavaLibs
Version: 1.15.0
Command: /home/biocbuild/bbs-3.14-bioc/R/bin/R CMD build --keep-empty-dirs --no-resave-data OnassisJavaLibs
StartedAt: 2021-10-16 11:29:17 -0400 (Sat, 16 Oct 2021)
EndedAt: 2021-10-16 11:29:28 -0400 (Sat, 16 Oct 2021)
EllapsedTime: 10.5 seconds
RetCode: 0
Status:   OK  
PackageFile: OnassisJavaLibs_1.15.0.tar.gz
PackageFileSize: 85.26 MiB

Command output

##############################################################################
##############################################################################
###
### Running command:
###
###   /home/biocbuild/bbs-3.14-bioc/R/bin/R CMD build --keep-empty-dirs --no-resave-data OnassisJavaLibs
###
##############################################################################
##############################################################################


* checking for file ‘OnassisJavaLibs/DESCRIPTION’ ... OK
* preparing ‘OnassisJavaLibs’:
* checking DESCRIPTION meta-information ... OK
* installing the package to build vignettes
* creating vignettes ... OK
* checking for LF line-endings in source and make files and shell scripts
* checking for empty or unneeded directories
Omitted ‘LazyData’ from DESCRIPTION
* building ‘OnassisJavaLibs_1.15.0.tar.gz’
Warning in utils::tar(filepath, pkgname, compression = compression, compression_level = 9L,  :
  storing paths of more than 100 bytes is not portable:
  ‘OnassisJavaLibs/java/slib/slib-graph/slib-graph-algo/src/main/java/slib/graph/algo/accessor/GraphAccessor.java’
Warning in utils::tar(filepath, pkgname, compression = compression, compression_level = 9L,  :
  storing paths of more than 100 bytes is not portable:
  ‘OnassisJavaLibs/java/slib/slib-graph/slib-graph-algo/src/main/java/slib/graph/algo/extraction/metric/’
Warning in utils::tar(filepath, pkgname, compression = compression, compression_level = 9L,  :
  storing paths of more than 100 bytes is not portable:
  ‘OnassisJavaLibs/java/slib/slib-graph/slib-graph-algo/src/main/java/slib/graph/algo/extraction/metric/DepthAnalyserAG.java’
Warning in utils::tar(filepath, pkgname, compression = compression, compression_level = 9L,  :
  storing paths of more than 100 bytes is not portable:
  ‘OnassisJavaLibs/java/slib/slib-graph/slib-graph-algo/src/main/java/slib/graph/algo/extraction/package-info.java’
Warning in utils::tar(filepath, pkgname, compression = compression, compression_level = 9L,  :
  storing paths of more than 100 bytes is not portable:
  ‘OnassisJavaLibs/java/slib/slib-graph/slib-graph-algo/src/main/java/slib/graph/algo/extraction/reduction/’
Warning in utils::tar(filepath, pkgname, compression = compression, compression_level = 9L,  :
  storing paths of more than 100 bytes is not portable:
  ‘OnassisJavaLibs/java/slib/slib-graph/slib-graph-algo/src/main/java/slib/graph/algo/extraction/reduction/dag/’
Warning in utils::tar(filepath, pkgname, compression = compression, compression_level = 9L,  :
  storing paths of more than 100 bytes is not portable:
  ‘OnassisJavaLibs/java/slib/slib-graph/slib-graph-algo/src/main/java/slib/graph/algo/extraction/reduction/dag/GraphReduction_DAG_Ranwez_2011.java’
Warning in utils::tar(filepath, pkgname, compression = compression, compression_level = 9L,  :
  storing paths of more than 100 bytes is not portable:
  ‘OnassisJavaLibs/java/slib/slib-graph/slib-graph-algo/src/main/java/slib/graph/algo/extraction/reduction/dag/GraphReduction_Transitive.java’
Warning in utils::tar(filepath, pkgname, compression = compression, compression_level = 9L,  :
  storing paths of more than 100 bytes is not portable:
  ‘OnassisJavaLibs/java/slib/slib-graph/slib-graph-algo/src/main/java/slib/graph/algo/extraction/rvf/AncestorEngine.java’
Warning in utils::tar(filepath, pkgname, compression = compression, compression_level = 9L,  :
  storing paths of more than 100 bytes is not portable:
  ‘OnassisJavaLibs/java/slib/slib-graph/slib-graph-algo/src/main/java/slib/graph/algo/extraction/rvf/DescendantEngine.java’
Warning in utils::tar(filepath, pkgname, compression = compression, compression_level = 9L,  :
  storing paths of more than 100 bytes is not portable:
  ‘OnassisJavaLibs/java/slib/slib-graph/slib-graph-algo/src/main/java/slib/graph/algo/extraction/rvf/RVF.java’
Warning in utils::tar(filepath, pkgname, compression = compression, compression_level = 9L,  :
  storing paths of more than 100 bytes is not portable:
  ‘OnassisJavaLibs/java/slib/slib-graph/slib-graph-algo/src/main/java/slib/graph/algo/extraction/rvf/RVF_DAG.java’
Warning in utils::tar(filepath, pkgname, compression = compression, compression_level = 9L,  :
  storing paths of more than 100 bytes is not portable:
  ‘OnassisJavaLibs/java/slib/slib-graph/slib-graph-algo/src/main/java/slib/graph/algo/extraction/rvf/RVF_TAX.java’
Warning in utils::tar(filepath, pkgname, compression = compression, compression_level = 9L,  :
  storing paths of more than 100 bytes is not portable:
  ‘OnassisJavaLibs/java/slib/slib-graph/slib-graph-algo/src/main/java/slib/graph/algo/extraction/rvf/instances/’
Warning in utils::tar(filepath, pkgname, compression = compression, compression_level = 9L,  :
  storing paths of more than 100 bytes is not portable:
  ‘OnassisJavaLibs/java/slib/slib-graph/slib-graph-algo/src/main/java/slib/graph/algo/extraction/rvf/instances/InstancesAccessor.java’
Warning in utils::tar(filepath, pkgname, compression = compression, compression_level = 9L,  :
  storing paths of more than 100 bytes is not portable:
  ‘OnassisJavaLibs/java/slib/slib-graph/slib-graph-algo/src/main/java/slib/graph/algo/extraction/rvf/instances/impl/’
Warning in utils::tar(filepath, pkgname, compression = compression, compression_level = 9L,  :
  storing paths of more than 100 bytes is not portable:
  ‘OnassisJavaLibs/java/slib/slib-graph/slib-graph-algo/src/main/java/slib/graph/algo/extraction/rvf/instances/impl/InstanceAccessor_RDF_TYPE.java’
Warning in utils::tar(filepath, pkgname, compression = compression, compression_level = 9L,  :
  storing paths of more than 100 bytes is not portable:
  ‘OnassisJavaLibs/java/slib/slib-graph/slib-graph-algo/src/main/java/slib/graph/algo/extraction/shortest_path/’
Warning in utils::tar(filepath, pkgname, compression = compression, compression_level = 9L,  :
  storing paths of more than 100 bytes is not portable:
  ‘OnassisJavaLibs/java/slib/slib-graph/slib-graph-algo/src/main/java/slib/graph/algo/extraction/shortest_path/Dijkstra.java’
Warning in utils::tar(filepath, pkgname, compression = compression, compression_level = 9L,  :
  storing paths of more than 100 bytes is not portable:
  ‘OnassisJavaLibs/java/slib/slib-graph/slib-graph-algo/src/main/java/slib/graph/algo/extraction/traversal/’
Warning in utils::tar(filepath, pkgname, compression = compression, compression_level = 9L,  :
  storing paths of more than 100 bytes is not portable:
  ‘OnassisJavaLibs/java/slib/slib-graph/slib-graph-algo/src/main/java/slib/graph/algo/extraction/traversal/GraphTraversal.java’
Warning in utils::tar(filepath, pkgname, compression = compression, compression_level = 9L,  :
  storing paths of more than 100 bytes is not portable:
  ‘OnassisJavaLibs/java/slib/slib-graph/slib-graph-algo/src/main/java/slib/graph/algo/extraction/traversal/classical/’
Warning in utils::tar(filepath, pkgname, compression = compression, compression_level = 9L,  :
  storing paths of more than 100 bytes is not portable:
  ‘OnassisJavaLibs/java/slib/slib-graph/slib-graph-algo/src/main/java/slib/graph/algo/extraction/traversal/classical/BFS.java’
Warning in utils::tar(filepath, pkgname, compression = compression, compression_level = 9L,  :
  storing paths of more than 100 bytes is not portable:
  ‘OnassisJavaLibs/java/slib/slib-graph/slib-graph-algo/src/main/java/slib/graph/algo/extraction/traversal/classical/DFS.java’
Warning in utils::tar(filepath, pkgname, compression = compression, compression_level = 9L,  :
  storing paths of more than 100 bytes is not portable:
  ‘OnassisJavaLibs/java/slib/slib-graph/slib-graph-algo/src/main/java/slib/graph/algo/extraction/utils/Color.java’
Warning in utils::tar(filepath, pkgname, compression = compression, compression_level = 9L,  :
  storing paths of more than 100 bytes is not portable:
  ‘OnassisJavaLibs/java/slib/slib-graph/slib-graph-algo/src/main/java/slib/graph/algo/extraction/utils/GAction.java’
Warning in utils::tar(filepath, pkgname, compression = compression, compression_level = 9L,  :
  storing paths of more than 100 bytes is not portable:
  ‘OnassisJavaLibs/java/slib/slib-graph/slib-graph-algo/src/main/java/slib/graph/algo/extraction/utils/GActionType.java’
Warning in utils::tar(filepath, pkgname, compression = compression, compression_level = 9L,  :
  storing paths of more than 100 bytes is not portable:
  ‘OnassisJavaLibs/java/slib/slib-graph/slib-graph-algo/src/main/java/slib/graph/algo/extraction/utils/GActionValidator.java’
Warning in utils::tar(filepath, pkgname, compression = compression, compression_level = 9L,  :
  storing paths of more than 100 bytes is not portable:
  ‘OnassisJavaLibs/java/slib/slib-graph/slib-graph-algo/src/main/java/slib/graph/algo/extraction/utils/GraphActionExecutor.java’
Warning in utils::tar(filepath, pkgname, compression = compression, compression_level = 9L,  :
  storing paths of more than 100 bytes is not portable:
  ‘OnassisJavaLibs/java/slib/slib-graph/slib-graph-algo/src/main/java/slib/graph/algo/extraction/utils/RooterDAG.java’
Warning in utils::tar(filepath, pkgname, compression = compression, compression_level = 9L,  :
  storing paths of more than 100 bytes is not portable:
  ‘OnassisJavaLibs/java/slib/slib-graph/slib-graph-algo/src/main/java/slib/graph/algo/extraction/validator/’
Warning in utils::tar(filepath, pkgname, compression = compression, compression_level = 9L,  :
  storing paths of more than 100 bytes is not portable:
  ‘OnassisJavaLibs/java/slib/slib-graph/slib-graph-algo/src/main/java/slib/graph/algo/extraction/validator/dag/’
Warning in utils::tar(filepath, pkgname, compression = compression, compression_level = 9L,  :
  storing paths of more than 100 bytes is not portable:
  ‘OnassisJavaLibs/java/slib/slib-graph/slib-graph-algo/src/main/java/slib/graph/algo/extraction/validator/dag/Path.java’
Warning in utils::tar(filepath, pkgname, compression = compression, compression_level = 9L,  :
  storing paths of more than 100 bytes is not portable:
  ‘OnassisJavaLibs/java/slib/slib-graph/slib-graph-algo/src/main/java/slib/graph/algo/extraction/validator/dag/ValidatorDAG.java’
Warning in utils::tar(filepath, pkgname, compression = compression, compression_level = 9L,  :
  storing paths of more than 100 bytes is not portable:
  ‘OnassisJavaLibs/java/slib/slib-graph/slib-graph-algo/src/main/java/slib/graph/algo/metric/DepthAnalyserAG.java’
Warning in utils::tar(filepath, pkgname, compression = compression, compression_level = 9L,  :
  storing paths of more than 100 bytes is not portable:
  ‘OnassisJavaLibs/java/slib/slib-graph/slib-graph-algo/src/main/java/slib/graph/algo/reduction/dag/GraphReduction_DAG_Ranwez_2011.java’
Warning in utils::tar(filepath, pkgname, compression = compression, compression_level = 9L,  :
  storing paths of more than 100 bytes is not portable:
  ‘OnassisJavaLibs/java/slib/slib-graph/slib-graph-algo/src/main/java/slib/graph/algo/reduction/dag/GraphReduction_Transitive.java’
Warning in utils::tar(filepath, pkgname, compression = compression, compression_level = 9L,  :
  storing paths of more than 100 bytes is not portable:
  ‘OnassisJavaLibs/java/slib/slib-graph/slib-graph-algo/src/main/java/slib/graph/algo/shortest_path/Dijkstra.java’
Warning in utils::tar(filepath, pkgname, compression = compression, compression_level = 9L,  :
  storing paths of more than 100 bytes is not portable:
  ‘OnassisJavaLibs/java/slib/slib-graph/slib-graph-algo/src/main/java/slib/graph/algo/traversal/GraphTraversal.java’
Warning in utils::tar(filepath, pkgname, compression = compression, compression_level = 9L,  :
  storing paths of more than 100 bytes is not portable:
  ‘OnassisJavaLibs/java/slib/slib-graph/slib-graph-algo/src/main/java/slib/graph/algo/traversal/classical/’
Warning in utils::tar(filepath, pkgname, compression = compression, compression_level = 9L,  :
  storing paths of more than 100 bytes is not portable:
  ‘OnassisJavaLibs/java/slib/slib-graph/slib-graph-algo/src/main/java/slib/graph/algo/traversal/classical/BFS.java’
Warning in utils::tar(filepath, pkgname, compression = compression, compression_level = 9L,  :
  storing paths of more than 100 bytes is not portable:
  ‘OnassisJavaLibs/java/slib/slib-graph/slib-graph-algo/src/main/java/slib/graph/algo/traversal/classical/DFS.java’
Warning in utils::tar(filepath, pkgname, compression = compression, compression_level = 9L,  :
  storing paths of more than 100 bytes is not portable:
  ‘OnassisJavaLibs/java/slib/slib-graph/slib-graph-algo/src/main/java/slib/graph/algo/utils/GAction.java’
Warning in utils::tar(filepath, pkgname, compression = compression, compression_level = 9L,  :
  storing paths of more than 100 bytes is not portable:
  ‘OnassisJavaLibs/java/slib/slib-graph/slib-graph-algo/src/main/java/slib/graph/algo/utils/GActionType.java’
Warning in utils::tar(filepath, pkgname, compression = compression, compression_level = 9L,  :
  storing paths of more than 100 bytes is not portable:
  ‘OnassisJavaLibs/java/slib/slib-graph/slib-graph-algo/src/main/java/slib/graph/algo/utils/GActionValidator.java’
Warning in utils::tar(filepath, pkgname, compression = compression, compression_level = 9L,  :
  storing paths of more than 100 bytes is not portable:
  ‘OnassisJavaLibs/java/slib/slib-graph/slib-graph-algo/src/main/java/slib/graph/algo/utils/GraphActionExecutor.java’
Warning in utils::tar(filepath, pkgname, compression = compression, compression_level = 9L,  :
  storing paths of more than 100 bytes is not portable:
  ‘OnassisJavaLibs/java/slib/slib-graph/slib-graph-algo/src/main/java/slib/graph/algo/utils/RooterDAG.java’
Warning in utils::tar(filepath, pkgname, compression = compression, compression_level = 9L,  :
  storing paths of more than 100 bytes is not portable:
  ‘OnassisJavaLibs/java/slib/slib-graph/slib-graph-algo/src/main/java/slib/graph/algo/validator/dag/Path.java’
Warning in utils::tar(filepath, pkgname, compression = compression, compression_level = 9L,  :
  storing paths of more than 100 bytes is not portable:
  ‘OnassisJavaLibs/java/slib/slib-graph/slib-graph-algo/src/main/java/slib/graph/algo/validator/dag/ValidatorDAG.java’
Warning in utils::tar(filepath, pkgname, compression = compression, compression_level = 9L,  :
  storing paths of more than 100 bytes is not portable:
  ‘OnassisJavaLibs/java/slib/slib-graph/slib-graph-io/src/main/java/slib/graph/io/loader/GraphLoader.java’
Warning in utils::tar(filepath, pkgname, compression = compression, compression_level = 9L,  :
  storing paths of more than 100 bytes is not portable:
  ‘OnassisJavaLibs/java/slib/slib-graph/slib-graph-io/src/main/java/slib/graph/io/loader/GraphLoaderGeneric.java’
Warning in utils::tar(filepath, pkgname, compression = compression, compression_level = 9L,  :
  storing paths of more than 100 bytes is not portable:
  ‘OnassisJavaLibs/java/slib/slib-graph/slib-graph-io/src/main/java/slib/graph/io/loader/annot/GraphLoader_TSVannot.java’
Warning in utils::tar(filepath, pkgname, compression = compression, compression_level = 9L,  :
  storing paths of more than 100 bytes is not portable:
  ‘OnassisJavaLibs/java/slib/slib-graph/slib-graph-io/src/main/java/slib/graph/io/loader/bio/gaf2/EvidenceCodeRules.java’
Warning in utils::tar(filepath, pkgname, compression = compression, compression_level = 9L,  :
  storing paths of more than 100 bytes is not portable:
  ‘OnassisJavaLibs/java/slib/slib-graph/slib-graph-io/src/main/java/slib/graph/io/loader/bio/gaf2/GraphLoader_GAF_2.java’
Warning in utils::tar(filepath, pkgname, compression = compression, compression_level = 9L,  :
  storing paths of more than 100 bytes is not portable:
  ‘OnassisJavaLibs/java/slib/slib-graph/slib-graph-io/src/main/java/slib/graph/io/loader/bio/mesh/GraphLoader_MESH_XML.java’
Warning in utils::tar(filepath, pkgname, compression = compression, compression_level = 9L,  :
  storing paths of more than 100 bytes is not portable:
  ‘OnassisJavaLibs/java/slib/slib-graph/slib-graph-io/src/main/java/slib/graph/io/loader/bio/mesh/MeshConcept.java’
Warning in utils::tar(filepath, pkgname, compression = compression, compression_level = 9L,  :
  storing paths of more than 100 bytes is not portable:
  ‘OnassisJavaLibs/java/slib/slib-graph/slib-graph-io/src/main/java/slib/graph/io/loader/bio/mesh/MeshXMLHandler.java’
Warning in utils::tar(filepath, pkgname, compression = compression, compression_level = 9L,  :
  storing paths of more than 100 bytes is not portable:
  ‘OnassisJavaLibs/java/slib/slib-graph/slib-graph-io/src/main/java/slib/graph/io/loader/bio/obo/GraphLoader_OBO_1_2.java’
Warning in utils::tar(filepath, pkgname, compression = compression, compression_level = 9L,  :
  storing paths of more than 100 bytes is not portable:
  ‘OnassisJavaLibs/java/slib/slib-graph/slib-graph-io/src/main/java/slib/graph/io/loader/bio/obo/utils/OboRelationship.java’
Warning in utils::tar(filepath, pkgname, compression = compression, compression_level = 9L,  :
  storing paths of more than 100 bytes is not portable:
  ‘OnassisJavaLibs/java/slib/slib-graph/slib-graph-io/src/main/java/slib/graph/io/loader/bio/obo/utils/OboTerm.java’
Warning in utils::tar(filepath, pkgname, compression = compression, compression_level = 9L,  :
  storing paths of more than 100 bytes is not portable:
  ‘OnassisJavaLibs/java/slib/slib-graph/slib-graph-io/src/main/java/slib/graph/io/loader/bio/obo/utils/OboType.java’
Warning in utils::tar(filepath, pkgname, compression = compression, compression_level = 9L,  :
  storing paths of more than 100 bytes is not portable:
  ‘OnassisJavaLibs/java/slib/slib-graph/slib-graph-io/src/main/java/slib/graph/io/loader/bio/snomedct/GraphLoaderSnomedCT_RF2.java’
Warning in utils::tar(filepath, pkgname, compression = compression, compression_level = 9L,  :
  storing paths of more than 100 bytes is not portable:
  ‘OnassisJavaLibs/java/slib/slib-graph/slib-graph-io/src/main/java/slib/graph/io/loader/csv/CSV_Mapping.java’
Warning in utils::tar(filepath, pkgname, compression = compression, compression_level = 9L,  :
  storing paths of more than 100 bytes is not portable:
  ‘OnassisJavaLibs/java/slib/slib-graph/slib-graph-io/src/main/java/slib/graph/io/loader/csv/CSV_StatementTemplate.java’
Warning in utils::tar(filepath, pkgname, compression = compression, compression_level = 9L,  :
  storing paths of more than 100 bytes is not portable:
  ‘OnassisJavaLibs/java/slib/slib-graph/slib-graph-io/src/main/java/slib/graph/io/loader/csv/CSV_StatementTemplate_Constraint.java’
Warning in utils::tar(filepath, pkgname, compression = compression, compression_level = 9L,  :
  storing paths of more than 100 bytes is not portable:
  ‘OnassisJavaLibs/java/slib/slib-graph/slib-graph-io/src/main/java/slib/graph/io/loader/csv/GraphLoader_CSV.java’
Warning in utils::tar(filepath, pkgname, compression = compression, compression_level = 9L,  :
  storing paths of more than 100 bytes is not portable:
  ‘OnassisJavaLibs/java/slib/slib-graph/slib-graph-io/src/main/java/slib/graph/io/loader/csv/StatementTemplateElement.java’
Warning in utils::tar(filepath, pkgname, compression = compression, compression_level = 9L,  :
  storing paths of more than 100 bytes is not portable:
  ‘OnassisJavaLibs/java/slib/slib-graph/slib-graph-io/src/main/java/slib/graph/io/loader/csv/StatementTemplate_Constraint_Type.java’
Warning in utils::tar(filepath, pkgname, compression = compression, compression_level = 9L,  :
  storing paths of more than 100 bytes is not portable:
  ‘OnassisJavaLibs/java/slib/slib-graph/slib-graph-io/src/main/java/slib/graph/io/loader/rdf/RDFLoader.java’
Warning in utils::tar(filepath, pkgname, compression = compression, compression_level = 9L,  :
  storing paths of more than 100 bytes is not portable:
  ‘OnassisJavaLibs/java/slib/slib-graph/slib-graph-io/src/main/java/slib/graph/io/loader/rdf/SlibRdfHandler.java’
Warning in utils::tar(filepath, pkgname, compression = compression, compression_level = 9L,  :
  storing paths of more than 100 bytes is not portable:
  ‘OnassisJavaLibs/java/slib/slib-graph/slib-graph-io/src/main/java/slib/graph/io/loader/slibformat/GraphLoader_SLIB.java’
Warning in utils::tar(filepath, pkgname, compression = compression, compression_level = 9L,  :
  storing paths of more than 100 bytes is not portable:
  ‘OnassisJavaLibs/java/slib/slib-graph/slib-graph-io/src/main/java/slib/graph/io/loader/utils/filter/graph/’
Warning in utils::tar(filepath, pkgname, compression = compression, compression_level = 9L,  :
  storing paths of more than 100 bytes is not portable:
  ‘OnassisJavaLibs/java/slib/slib-graph/slib-graph-io/src/main/java/slib/graph/io/loader/utils/filter/graph/Filter.java’
Warning in utils::tar(filepath, pkgname, compression = compression, compression_level = 9L,  :
  storing paths of more than 100 bytes is not portable:
  ‘OnassisJavaLibs/java/slib/slib-graph/slib-graph-io/src/main/java/slib/graph/io/loader/utils/filter/graph/FilterCst.java’
Warning in utils::tar(filepath, pkgname, compression = compression, compression_level = 9L,  :
  storing paths of more than 100 bytes is not portable:
  ‘OnassisJavaLibs/java/slib/slib-graph/slib-graph-io/src/main/java/slib/graph/io/loader/utils/filter/graph/FilterGraph.java’
Warning in utils::tar(filepath, pkgname, compression = compression, compression_level = 9L,  :
  storing paths of more than 100 bytes is not portable:
  ‘OnassisJavaLibs/java/slib/slib-graph/slib-graph-io/src/main/java/slib/graph/io/loader/utils/filter/graph/gaf2/’
Warning in utils::tar(filepath, pkgname, compression = compression, compression_level = 9L,  :
  storing paths of more than 100 bytes is not portable:
  ‘OnassisJavaLibs/java/slib/slib-graph/slib-graph-io/src/main/java/slib/graph/io/loader/utils/filter/graph/gaf2/FilterGraph_GAF2.java’
Warning in utils::tar(filepath, pkgname, compression = compression, compression_level = 9L,  :
  storing paths of more than 100 bytes is not portable:
  ‘OnassisJavaLibs/java/slib/slib-graph/slib-graph-io/src/main/java/slib/graph/io/loader/utils/filter/graph/gaf2/FilterGraph_GAF2_cst.java’
Warning in utils::tar(filepath, pkgname, compression = compression, compression_level = 9L,  :
  storing paths of more than 100 bytes is not portable:
  ‘OnassisJavaLibs/java/slib/slib-graph/slib-graph-io/src/main/java/slib/graph/io/loader/utils/filter/graph/metrics/’
Warning in utils::tar(filepath, pkgname, compression = compression, compression_level = 9L,  :
  storing paths of more than 100 bytes is not portable:
  ‘OnassisJavaLibs/java/slib/slib-graph/slib-graph-io/src/main/java/slib/graph/io/loader/utils/filter/graph/metrics/FilterGraph_Metrics.java’
Warning in utils::tar(filepath, pkgname, compression = compression, compression_level = 9L,  :
  storing paths of more than 100 bytes is not portable:
  ‘OnassisJavaLibs/java/slib/slib-graph/slib-graph-io/src/main/java/slib/graph/io/loader/utils/filter/graph/metrics/FilterGraph_Metrics_cst.java’
Warning in utils::tar(filepath, pkgname, compression = compression, compression_level = 9L,  :
  storing paths of more than 100 bytes is not portable:
  ‘OnassisJavaLibs/java/slib/slib-graph/slib-graph-io/src/main/java/slib/graph/io/loader/utils/filter/graph/repo/’
Warning in utils::tar(filepath, pkgname, compression = compression, compression_level = 9L,  :
  storing paths of more than 100 bytes is not portable:
  ‘OnassisJavaLibs/java/slib/slib-graph/slib-graph-io/src/main/java/slib/graph/io/loader/utils/filter/graph/repo/FilterRepository.java’
Warning in utils::tar(filepath, pkgname, compression = compression, compression_level = 9L,  :
  storing paths of more than 100 bytes is not portable:
  ‘OnassisJavaLibs/java/slib/slib-graph/slib-graph-io/src/main/java/slib/graph/io/loader/wordnet/GraphLoader_Wordnet.java’
Warning in utils::tar(filepath, pkgname, compression = compression, compression_level = 9L,  :
  storing paths of more than 100 bytes is not portable:
  ‘OnassisJavaLibs/java/slib/slib-graph/slib-graph-io/src/main/java/slib/graph/io/plotter/GraphPlotter_Graphviz.java’
Warning in utils::tar(filepath, pkgname, compression = compression, compression_level = 9L,  :
  storing paths of more than 100 bytes is not portable:
  ‘OnassisJavaLibs/java/slib/slib-graph/slib-graph-io/src/main/java/slib/graph/io/util/GActionValidator.java’
Warning in utils::tar(filepath, pkgname, compression = compression, compression_level = 9L,  :
  storing paths of more than 100 bytes is not portable:
  ‘OnassisJavaLibs/java/slib/slib-graph/slib-graph-io/src/main/java/slib/graph/io/util/GDataValidator.java’
Warning in utils::tar(filepath, pkgname, compression = compression, compression_level = 9L,  :
  storing paths of more than 100 bytes is not portable:
  ‘OnassisJavaLibs/java/slib/slib-graph/slib-graph-model-impl/src/main/java/slib/graph/model/impl/graph/’
Warning in utils::tar(filepath, pkgname, compression = compression, compression_level = 9L,  :
  storing paths of more than 100 bytes is not portable:
  ‘OnassisJavaLibs/java/slib/slib-graph/slib-graph-model-impl/src/main/java/slib/graph/model/impl/graph/elements/’
Warning in utils::tar(filepath, pkgname, compression = compression, compression_level = 9L,  :
  storing paths of more than 100 bytes is not portable:
  ‘OnassisJavaLibs/java/slib/slib-graph/slib-graph-model-impl/src/main/java/slib/graph/model/impl/graph/elements/Edge.java’
Warning in utils::tar(filepath, pkgname, compression = compression, compression_level = 9L,  :
  storing paths of more than 100 bytes is not portable:
  ‘OnassisJavaLibs/java/slib/slib-graph/slib-graph-model-impl/src/main/java/slib/graph/model/impl/graph/memory/’
Warning in utils::tar(filepath, pkgname, compression = compression, compression_level = 9L,  :
  storing paths of more than 100 bytes is not portable:
  ‘OnassisJavaLibs/java/slib/slib-graph/slib-graph-model-impl/src/main/java/slib/graph/model/impl/graph/memory/GraphMemory.java’
Warning in utils::tar(filepath, pkgname, compression = compression, compression_level = 9L,  :
  storing paths of more than 100 bytes is not portable:
  ‘OnassisJavaLibs/java/slib/slib-graph/slib-graph-model-impl/src/main/java/slib/graph/model/impl/graph/weight/’
Warning in utils::tar(filepath, pkgname, compression = compression, compression_level = 9L,  :
  storing paths of more than 100 bytes is not portable:
  ‘OnassisJavaLibs/java/slib/slib-graph/slib-graph-model-impl/src/main/java/slib/graph/model/impl/graph/weight/GWS_impl.java’
Warning in utils::tar(filepath, pkgname, compression = compression, compression_level = 9L,  :
  storing paths of more than 100 bytes is not portable:
  ‘OnassisJavaLibs/java/slib/slib-graph/slib-graph-model-impl/src/main/java/slib/graph/model/impl/repo/GraphRepositoryMemory.java’
Warning in utils::tar(filepath, pkgname, compression = compression, compression_level = 9L,  :
  storing paths of more than 100 bytes is not portable:
  ‘OnassisJavaLibs/java/slib/slib-graph/slib-graph-model-impl/src/main/java/slib/graph/model/impl/repo/URIFactoryMemory.java’
Warning in utils::tar(filepath, pkgname, compression = compression, compression_level = 9L,  :
  storing paths of more than 100 bytes is not portable:
  ‘OnassisJavaLibs/java/slib/slib-graph/slib-graph-model-impl/src/main/java/slib/graph/model/impl/utils/’
Warning in utils::tar(filepath, pkgname, compression = compression, compression_level = 9L,  :
  storing paths of more than 100 bytes is not portable:
  ‘OnassisJavaLibs/java/slib/slib-graph/slib-graph-model-impl/src/main/java/slib/graph/model/impl/utils/GraphUtils.java’
Warning in utils::tar(filepath, pkgname, compression = compression, compression_level = 9L,  :
  storing paths of more than 100 bytes is not portable:
  ‘OnassisJavaLibs/java/slib/slib-graph/slib-graph-model/src/main/java/slib/graph/model/graph/elements/E.java’
Warning in utils::tar(filepath, pkgname, compression = compression, compression_level = 9L,  :
  storing paths of more than 100 bytes is not portable:
  ‘OnassisJavaLibs/java/slib/slib-graph/slib-graph-model/src/main/java/slib/graph/model/graph/utils/Direction.java’
Warning in utils::tar(filepath, pkgname, compression = compression, compression_level = 9L,  :
  storing paths of more than 100 bytes is not portable:
  ‘OnassisJavaLibs/java/slib/slib-graph/slib-graph-model/src/main/java/slib/graph/model/graph/utils/WalkConstraint.java’
Warning in utils::tar(filepath, pkgname, compression = compression, compression_level = 9L,  :
  storing paths of more than 100 bytes is not portable:
  ‘OnassisJavaLibs/java/slib/slib-graph/slib-graph-model/src/main/java/slib/graph/model/graph/weight/GWS.java’
Warning in utils::tar(filepath, pkgname, compression = compression, compression_level = 9L,  :
  storing paths of more than 100 bytes is not portable:
  ‘OnassisJavaLibs/java/slib/slib-graph/slib-graph-model/src/main/java/slib/graph/model/repo/GraphRepository.java’
Warning in utils::tar(filepath, pkgname, compression = compression, compression_level = 9L,  :
  storing paths of more than 100 bytes is not portable:
  ‘OnassisJavaLibs/java/slib/slib-graph/slib-graph-model/src/main/java/slib/graph/model/repo/URIFactory.java’
Warning in utils::tar(filepath, pkgname, compression = compression, compression_level = 9L,  :
  storing paths of more than 100 bytes is not portable:
  ‘OnassisJavaLibs/java/slib/slib-graph/slib-graph-utils/src/main/java/slib/graph/utils/WalkConstraintGeneric.java’
Warning in utils::tar(filepath, pkgname, compression = compression, compression_level = 9L,  :
  storing paths of more than 100 bytes is not portable:
  ‘OnassisJavaLibs/java/slib/slib-graph/slib-graph-utils/src/main/java/slib/graph/utils/WalkConstraintUtils.java’
Warning in utils::tar(filepath, pkgname, compression = compression, compression_level = 9L,  :
  storing paths of more than 100 bytes is not portable:
  ‘OnassisJavaLibs/java/slib/slib-sml/src/main/java/slib/sml/sm/core/measures/Sim_Groupwise_Indirect.java’
Warning in utils::tar(filepath, pkgname, compression = compression, compression_level = 9L,  :
  storing paths of more than 100 bytes is not portable:
  ‘OnassisJavaLibs/java/slib/slib-sml/src/main/java/slib/sml/sm/core/measures/corpus/VocContextMatrixBuilder.java’
Warning in utils::tar(filepath, pkgname, compression = compression, compression_level = 9L,  :
  storing paths of more than 100 bytes is not portable:
  ‘OnassisJavaLibs/java/slib/slib-sml/src/main/java/slib/sml/sm/core/measures/graph/framework/dag/Sim_Framework_DAG_Set_Bader_2003.java’
Warning in utils::tar(filepath, pkgname, compression = compression, compression_level = 9L,  :
  storing paths of more than 100 bytes is not portable:
  ‘OnassisJavaLibs/java/slib/slib-sml/src/main/java/slib/sml/sm/core/measures/graph/framework/dag/Sim_Framework_DAG_Set_Batet_2010.java’
Warning in utils::tar(filepath, pkgname, compression = compression, compression_level = 9L,  :
  storing paths of more than 100 bytes is not portable:
  ‘OnassisJavaLibs/java/slib/slib-sml/src/main/java/slib/sml/sm/core/measures/graph/framework/dag/Sim_Framework_DAG_Set_Braun_Blanquet_1932.java’
Warning in utils::tar(filepath, pkgname, compression = compression, compression_level = 9L,  :
  storing paths of more than 100 bytes is not portable:
  ‘OnassisJavaLibs/java/slib/slib-sml/src/main/java/slib/sml/sm/core/measures/graph/framework/dag/Sim_Framework_DAG_Set_Dice_1945.java’
Warning in utils::tar(filepath, pkgname, compression = compression, compression_level = 9L,  :
  storing paths of more than 100 bytes is not portable:
  ‘OnassisJavaLibs/java/slib/slib-sml/src/main/java/slib/sml/sm/core/measures/graph/framework/dag/Sim_Framework_DAG_Set_Jaccard_1901.java’
Warning in utils::tar(filepath, pkgname, compression = compression, compression_level = 9L,  :
  storing paths of more than 100 bytes is not portable:
  ‘OnassisJavaLibs/java/slib/slib-sml/src/main/java/slib/sml/sm/core/measures/graph/framework/dag/Sim_Framework_DAG_Set_Knappe_2004.java’
Warning in utils::tar(filepath, pkgname, compression = compression, compression_level = 9L,  :
  storing paths of more than 100 bytes is not portable:
  ‘OnassisJavaLibs/java/slib/slib-sml/src/main/java/slib/sml/sm/core/measures/graph/framework/dag/Sim_Framework_DAG_Set_Korbel_2002.java’
Warning in utils::tar(filepath, pkgname, compression = compression, compression_level = 9L,  :
  storing paths of more than 100 bytes is not portable:
  ‘OnassisJavaLibs/java/slib/slib-sml/src/main/java/slib/sml/sm/core/measures/graph/framework/dag/Sim_Framework_DAG_Set_Maryland_Bridge_2003.java’
Warning in utils::tar(filepath, pkgname, compression = compression, compression_level = 9L,  :
  storing paths of more than 100 bytes is not portable:
  ‘OnassisJavaLibs/java/slib/slib-sml/src/main/java/slib/sml/sm/core/measures/graph/framework/dag/Sim_Framework_DAG_Set_Ochiai_1957.java’
Warning in utils::tar(filepath, pkgname, compression = compression, compression_level = 9L,  :
  storing paths of more than 100 bytes is not portable:
  ‘OnassisJavaLibs/java/slib/slib-sml/src/main/java/slib/sml/sm/core/measures/graph/framework/dag/Sim_Framework_DAG_Set_Simpson_1960.java’
Warning in utils::tar(filepath, pkgname, compression = compression, compression_level = 9L,  :
  storing paths of more than 100 bytes is not portable:
  ‘OnassisJavaLibs/java/slib/slib-sml/src/main/java/slib/sml/sm/core/measures/graph/framework/dag/Sim_Framework_DAG_Set_Sokal_Sneath_1963.java’
Warning in utils::tar(filepath, pkgname, compression = compression, compression_level = 9L,  :
  storing paths of more than 100 bytes is not portable:
  ‘OnassisJavaLibs/java/slib/slib-sml/src/main/java/slib/sml/sm/core/measures/graph/framework/dag/Sim_Framework_DAG_Set_Tversky_1977.java’
Warning in utils::tar(filepath, pkgname, compression = compression, compression_level = 9L,  :
  storing paths of more than 100 bytes is not portable:
  ‘OnassisJavaLibs/java/slib/slib-sml/src/main/java/slib/sml/sm/core/measures/graph/framework/dag/Sim_Framework_DAG_Set_abstract.java’
Warning in utils::tar(filepath, pkgname, compression = compression, compression_level = 9L,  :
  storing paths of more than 100 bytes is not portable:
  ‘OnassisJavaLibs/java/slib/slib-sml/src/main/java/slib/sml/sm/core/measures/graph/groupwise/dag/Sim_groupwise_DAG_Ali_Deane.java’
Warning in utils::tar(filepath, pkgname, compression = compression, compression_level = 9L,  :
  storing paths of more than 100 bytes is not portable:
  ‘OnassisJavaLibs/java/slib/slib-sml/src/main/java/slib/sml/sm/core/measures/graph/groupwise/dag/Sim_groupwise_DAG_GIC.java’
Warning in utils::tar(filepath, pkgname, compression = compression, compression_level = 9L,  :
  storing paths of more than 100 bytes is not portable:
  ‘OnassisJavaLibs/java/slib/slib-sml/src/main/java/slib/sml/sm/core/measures/graph/groupwise/dag/Sim_groupwise_DAG_LP.java’
Warning in utils::tar(filepath, pkgname, compression = compression, compression_level = 9L,  :
  storing paths of more than 100 bytes is not portable:
  ‘OnassisJavaLibs/java/slib/slib-sml/src/main/java/slib/sml/sm/core/measures/graph/groupwise/dag/Sim_groupwise_DAG_Lee_2004.java’
Warning in utils::tar(filepath, pkgname, compression = compression, compression_level = 9L,  :
  storing paths of more than 100 bytes is not portable:
  ‘OnassisJavaLibs/java/slib/slib-sml/src/main/java/slib/sml/sm/core/measures/graph/groupwise/dag/Sim_groupwise_DAG_NTO.java’
Warning in utils::tar(filepath, pkgname, compression = compression, compression_level = 9L,  :
  storing paths of more than 100 bytes is not portable:
  ‘OnassisJavaLibs/java/slib/slib-sml/src/main/java/slib/sml/sm/core/measures/graph/groupwise/dag/Sim_groupwise_DAG_NTO_MAX.java’
Warning in utils::tar(filepath, pkgname, compression = compression, compression_level = 9L,  :
  storing paths of more than 100 bytes is not portable:
  ‘OnassisJavaLibs/java/slib/slib-sml/src/main/java/slib/sml/sm/core/measures/graph/groupwise/dag/Sim_groupwise_DAG_TO.java’
Warning in utils::tar(filepath, pkgname, compression = compression, compression_level = 9L,  :
  storing paths of more than 100 bytes is not portable:
  ‘OnassisJavaLibs/java/slib/slib-sml/src/main/java/slib/sml/sm/core/measures/graph/groupwise/dag/Sim_groupwise_DAG_UI.java’
Warning in utils::tar(filepath, pkgname, compression = compression, compression_level = 9L,  :
  storing paths of more than 100 bytes is not portable:
  ‘OnassisJavaLibs/java/slib/slib-sml/src/main/java/slib/sml/sm/core/measures/graph/groupwise/dag/Sim_groupwise_DAG_abstract.java’
Warning in utils::tar(filepath, pkgname, compression = compression, compression_level = 9L,  :
  storing paths of more than 100 bytes is not portable:
  ‘OnassisJavaLibs/java/slib/slib-sml/src/main/java/slib/sml/sm/core/measures/graph/pairwise/dag/Dist_Pairwise_DAG.java’
Warning in utils::tar(filepath, pkgname, compression = compression, compression_level = 9L,  :
  storing paths of more than 100 bytes is not portable:
  ‘OnassisJavaLibs/java/slib/slib-sml/src/main/java/slib/sml/sm/core/measures/graph/pairwise/dag/IDist_Pairwise_DAG.java’
Warning in utils::tar(filepath, pkgname, compression = compression, compression_level = 9L,  :
  storing paths of more than 100 bytes is not portable:
  ‘OnassisJavaLibs/java/slib/slib-sml/src/main/java/slib/sml/sm/core/measures/graph/pairwise/dag/ISim_Pairwise_DAG.java’
Warning in utils::tar(filepath, pkgname, compression = compression, compression_level = 9L,  :
  storing paths of more than 100 bytes is not portable:
  ‘OnassisJavaLibs/java/slib/slib-sml/src/main/java/slib/sml/sm/core/measures/graph/pairwise/dag/Sim_Pairwise_DAG.java’
Warning in utils::tar(filepath, pkgname, compression = compression, compression_level = 9L,  :
  storing paths of more than 100 bytes is not portable:
  ‘OnassisJavaLibs/java/slib/slib-sml/src/main/java/slib/sml/sm/core/measures/graph/pairwise/dag/edge_based/’
Warning in utils::tar(filepath, pkgname, compression = compression, compression_level = 9L,  :
  storing paths of more than 100 bytes is not portable:
  ‘OnassisJavaLibs/java/slib/slib-sml/src/main/java/slib/sml/sm/core/measures/graph/pairwise/dag/edge_based/Dist_DAG_edge_abstract.java’
Warning in utils::tar(filepath, pkgname, compression = compression, compression_level = 9L,  :
  storing paths of more than 100 bytes is not portable:
  ‘OnassisJavaLibs/java/slib/slib-sml/src/main/java/slib/sml/sm/core/measures/graph/pairwise/dag/edge_based/Dist_pairwise_DAG_edge_Rada_1989.java’
Warning in utils::tar(filepath, pkgname, compression = compression, compression_level = 9L,  :
  storing paths of more than 100 bytes is not portable:
  ‘OnassisJavaLibs/java/slib/slib-sml/src/main/java/slib/sml/sm/core/measures/graph/pairwise/dag/edge_based/Dist_pairwise_DAG_edge_Rada_LCA_1989.java’
Warning in utils::tar(filepath, pkgname, compression = compression, compression_level = 9L,  :
  storing paths of more than 100 bytes is not portable:
  ‘OnassisJavaLibs/java/slib/slib-sml/src/main/java/slib/sml/sm/core/measures/graph/pairwise/dag/edge_based/Sim_DAG_edge_abstract.java’
Warning in utils::tar(filepath, pkgname, compression = compression, compression_level = 9L,  :
  storing paths of more than 100 bytes is not portable:
  ‘OnassisJavaLibs/java/slib/slib-sml/src/main/java/slib/sml/sm/core/measures/graph/pairwise/dag/edge_based/Sim_pairwise_DAG_edge_Kyogoku_basic_2011.java’
Warning in utils::tar(filepath, pkgname, compression = compression, compression_level = 9L,  :
  storing paths of more than 100 bytes is not portable:
  ‘OnassisJavaLibs/java/slib/slib-sml/src/main/java/slib/sml/sm/core/measures/graph/pairwise/dag/edge_based/Sim_pairwise_DAG_edge_Leacock_Chodorow_1998.java’
Warning in utils::tar(filepath, pkgname, compression = compression, compression_level = 9L,  :
  storing paths of more than 100 bytes is not portable:
  ‘OnassisJavaLibs/java/slib/slib-sml/src/main/java/slib/sml/sm/core/measures/graph/pairwise/dag/edge_based/Sim_pairwise_DAG_edge_Pekar_Staab_2002.java’
Warning in utils::tar(filepath, pkgname, compression = compression, compression_level = 9L,  :
  storing paths of more than 100 bytes is not portable:
  ‘OnassisJavaLibs/java/slib/slib-sml/src/main/java/slib/sml/sm/core/measures/graph/pairwise/dag/edge_based/Sim_pairwise_DAG_edge_Rada_1989.java’
Warning in utils::tar(filepath, pkgname, compression = compression, compression_level = 9L,  :
  storing paths of more than 100 bytes is not portable:
  ‘OnassisJavaLibs/java/slib/slib-sml/src/main/java/slib/sml/sm/core/measures/graph/pairwise/dag/edge_based/Sim_pairwise_DAG_edge_Rada_LCA_1989.java’
Warning in utils::tar(filepath, pkgname, compression = compression, compression_level = 9L,  :
  storing paths of more than 100 bytes is not portable:
  ‘OnassisJavaLibs/java/slib/slib-sml/src/main/java/slib/sml/sm/core/measures/graph/pairwise/dag/edge_based/Sim_pairwise_DAG_edge_Stojanovic_2001.java’
Warning in utils::tar(filepath, pkgname, compression = compression, compression_level = 9L,  :
  storing paths of more than 100 bytes is not portable:
  ‘OnassisJavaLibs/java/slib/slib-sml/src/main/java/slib/sml/sm/core/measures/graph/pairwise/dag/edge_based/Sim_pairwise_DAG_edge_Wu_Palmer_1994.java’
Warning in utils::tar(filepath, pkgname, compression = compression, compression_level = 9L,  :
  storing paths of more than 100 bytes is not portable:
  ‘OnassisJavaLibs/java/slib/slib-sml/src/main/java/slib/sml/sm/core/measures/graph/pairwise/dag/edge_based/experimental/’
Warning in utils::tar(filepath, pkgname, compression = compression, compression_level = 9L,  :
  storing paths of more than 100 bytes is not portable:
  ‘OnassisJavaLibs/java/slib/slib-sml/src/main/java/slib/sml/sm/core/measures/graph/pairwise/dag/edge_based/experimental/Sim_pairwise_DAG_edge_Al_Mubaid_2006.java’
Warning in utils::tar(filepath, pkgname, compression = compression, compression_level = 9L,  :
  storing paths of more than 100 bytes is not portable:
  ‘OnassisJavaLibs/java/slib/slib-sml/src/main/java/slib/sml/sm/core/measures/graph/pairwise/dag/edge_based/experimental/Sim_pairwise_DAG_edge_G_SESAME_2007.java’
Warning in utils::tar(filepath, pkgname, compression = compression, compression_level = 9L,  :
  storing paths of more than 100 bytes is not portable:
  ‘OnassisJavaLibs/java/slib/slib-sml/src/main/java/slib/sml/sm/core/measures/graph/pairwise/dag/edge_based/experimental/Sim_pairwise_DAG_edge_Resnik_1995.java’
Warning in utils::tar(filepath, pkgname, compression = compression, compression_level = 9L,  :
  storing paths of more than 100 bytes is not portable:
  ‘OnassisJavaLibs/java/slib/slib-sml/src/main/java/slib/sml/sm/core/measures/graph/pairwise/dag/edge_based/experimental/Sim_pairwise_DAG_edge_Slimani_2006.java’
Warning in utils::tar(filepath, pkgname, compression = compression, compression_level = 9L,  :
  storing paths of more than 100 bytes is not portable:
  ‘OnassisJavaLibs/java/slib/slib-sml/src/main/java/slib/sml/sm/core/measures/graph/pairwise/dag/edge_based/utils/’
Warning in utils::tar(filepath, pkgname, compression = compression, compression_level = 9L,  :
  storing paths of more than 100 bytes is not portable:
  ‘OnassisJavaLibs/java/slib/slib-sml/src/main/java/slib/sml/sm/core/measures/graph/pairwise/dag/edge_based/utils/SimDagEdgeUtils.java’
Warning in utils::tar(filepath, pkgname, compression = compression, compression_level = 9L,  :
  storing paths of more than 100 bytes is not portable:
  ‘OnassisJavaLibs/java/slib/slib-sml/src/main/java/slib/sml/sm/core/measures/graph/pairwise/dag/hybrid/’
Warning in utils::tar(filepath, pkgname, compression = compression, compression_level = 9L,  :
  storing paths of more than 100 bytes is not portable:
  ‘OnassisJavaLibs/java/slib/slib-sml/src/main/java/slib/sml/sm/core/measures/graph/pairwise/dag/hybrid/Sim_DAG_hybrid_abstract.java’
Warning in utils::tar(filepath, pkgname, compression = compression, compression_level = 9L,  :
  storing paths of more than 100 bytes is not portable:
  ‘OnassisJavaLibs/java/slib/slib-sml/src/main/java/slib/sml/sm/core/measures/graph/pairwise/dag/hybrid/experimental/’
Warning in utils::tar(filepath, pkgname, compression = compression, compression_level = 9L,  :
  storing paths of more than 100 bytes is not portable:
  ‘OnassisJavaLibs/java/slib/slib-sml/src/main/java/slib/sml/sm/core/measures/graph/pairwise/dag/hybrid/experimental/Sim_pairwise_DAG_edge_Li_2003.java’
Warning in utils::tar(filepath, pkgname, compression = compression, compression_level = 9L,  :
  storing paths of more than 100 bytes is not portable:
  ‘OnassisJavaLibs/java/slib/slib-sml/src/main/java/slib/sml/sm/core/measures/graph/pairwise/dag/hybrid/experimental/Sim_pairwise_DAG_hybrid_Ranwez_2006.java’
Warning in utils::tar(filepath, pkgname, compression = compression, compression_level = 9L,  :
  storing paths of more than 100 bytes is not portable:
  ‘OnassisJavaLibs/java/slib/slib-sml/src/main/java/slib/sml/sm/core/measures/graph/pairwise/dag/hybrid/experimental/Sim_pairwise_DAG_hybrid_Wang_2007.java’
Warning in utils::tar(filepath, pkgname, compression = compression, compression_level = 9L,  :
  storing paths of more than 100 bytes is not portable:
  ‘OnassisJavaLibs/java/slib/slib-sml/src/main/java/slib/sml/sm/core/measures/graph/pairwise/dag/hybrid/utils/’
Warning in utils::tar(filepath, pkgname, compression = compression, compression_level = 9L,  :
  storing paths of more than 100 bytes is not portable:
  ‘OnassisJavaLibs/java/slib/slib-sml/src/main/java/slib/sml/sm/core/measures/graph/pairwise/dag/hybrid/utils/SimDagHybridUtils.java’
Warning in utils::tar(filepath, pkgname, compression = compression, compression_level = 9L,  :
  storing paths of more than 100 bytes is not portable:
  ‘OnassisJavaLibs/java/slib/slib-sml/src/main/java/slib/sml/sm/core/measures/graph/pairwise/dag/node_based/’
Warning in utils::tar(filepath, pkgname, compression = compression, compression_level = 9L,  :
  storing paths of more than 100 bytes is not portable:
  ‘OnassisJavaLibs/java/slib/slib-sml/src/main/java/slib/sml/sm/core/measures/graph/pairwise/dag/node_based/Sim_DAG_node_abstract.java’
Warning in utils::tar(filepath, pkgname, compression = compression, compression_level = 9L,  :
  storing paths of more than 100 bytes is not portable:
  ‘OnassisJavaLibs/java/slib/slib-sml/src/main/java/slib/sml/sm/core/measures/graph/pairwise/dag/node_based/Sim_pairwise_DAG_node_Constants.java’
Warning in utils::tar(filepath, pkgname, compression = compression, compression_level = 9L,  :
  storing paths of more than 100 bytes is not portable:
  ‘OnassisJavaLibs/java/slib/slib-sml/src/main/java/slib/sml/sm/core/measures/graph/pairwise/dag/node_based/Sim_pairwise_DAG_node_Feature_Tversky_Contrast_Model.java’
Warning in utils::tar(filepath, pkgname, compression = compression, compression_level = 9L,  :
  storing paths of more than 100 bytes is not portable:
  ‘OnassisJavaLibs/java/slib/slib-sml/src/main/java/slib/sml/sm/core/measures/graph/pairwise/dag/node_based/Sim_pairwise_DAG_node_Feature_Tversky_Ratio_Model.java’
Warning in utils::tar(filepath, pkgname, compression = compression, compression_level = 9L,  :
  storing paths of more than 100 bytes is not portable:
  ‘OnassisJavaLibs/java/slib/slib-sml/src/main/java/slib/sml/sm/core/measures/graph/pairwise/dag/node_based/Sim_pairwise_DAG_node_GL.java’
Warning in utils::tar(filepath, pkgname, compression = compression, compression_level = 9L,  :
  storing paths of more than 100 bytes is not portable:
  ‘OnassisJavaLibs/java/slib/slib-sml/src/main/java/slib/sml/sm/core/measures/graph/pairwise/dag/node_based/Sim_pairwise_DAG_node_IC_Prop_Tversky_Contrast_Model.java’
Warning in utils::tar(filepath, pkgname, compression = compression, compression_level = 9L,  :
  storing paths of more than 100 bytes is not portable:
  ‘OnassisJavaLibs/java/slib/slib-sml/src/main/java/slib/sml/sm/core/measures/graph/pairwise/dag/node_based/Sim_pairwise_DAG_node_IC_Prop_Tversky_Ratio_Model.java’
Warning in utils::tar(filepath, pkgname, compression = compression, compression_level = 9L,  :
  storing paths of more than 100 bytes is not portable:
  ‘OnassisJavaLibs/java/slib/slib-sml/src/main/java/slib/sml/sm/core/measures/graph/pairwise/dag/node_based/Sim_pairwise_DAG_node_IC_Tversky_Contrast_Model.java’
Warning in utils::tar(filepath, pkgname, compression = compression, compression_level = 9L,  :
  storing paths of more than 100 bytes is not portable:
  ‘OnassisJavaLibs/java/slib/slib-sml/src/main/java/slib/sml/sm/core/measures/graph/pairwise/dag/node_based/Sim_pairwise_DAG_node_IC_Tversky_Ratio_Model.java’
Warning in utils::tar(filepath, pkgname, compression = compression, compression_level = 9L,  :
  storing paths of more than 100 bytes is not portable:
  ‘OnassisJavaLibs/java/slib/slib-sml/src/main/java/slib/sml/sm/core/measures/graph/pairwise/dag/node_based/Sim_pairwise_DAG_node_Jaccard_3W_IC.java’
Warning in utils::tar(filepath, pkgname, compression = compression, compression_level = 9L,  :
  storing paths of more than 100 bytes is not portable:
  ‘OnassisJavaLibs/java/slib/slib-sml/src/main/java/slib/sml/sm/core/measures/graph/pairwise/dag/node_based/Sim_pairwise_DAG_node_Jaccard_IC.java’
Warning in utils::tar(filepath, pkgname, compression = compression, compression_level = 9L,  :
  storing paths of more than 100 bytes is not portable:
  ‘OnassisJavaLibs/java/slib/slib-sml/src/main/java/slib/sml/sm/core/measures/graph/pairwise/dag/node_based/Sim_pairwise_DAG_node_Jiang_Conrath_1997.java’
Warning in utils::tar(filepath, pkgname, compression = compression, compression_level = 9L,  :
  storing paths of more than 100 bytes is not portable:
  ‘OnassisJavaLibs/java/slib/slib-sml/src/main/java/slib/sml/sm/core/measures/graph/pairwise/dag/node_based/Sim_pairwise_DAG_node_Jiang_Conrath_1997_Norm.java’
Warning in utils::tar(filepath, pkgname, compression = compression, compression_level = 9L,  :
  storing paths of more than 100 bytes is not portable:
  ‘OnassisJavaLibs/java/slib/slib-sml/src/main/java/slib/sml/sm/core/measures/graph/pairwise/dag/node_based/Sim_pairwise_DAG_node_Lin_1998.java’
Warning in utils::tar(filepath, pkgname, compression = compression, compression_level = 9L,  :
  storing paths of more than 100 bytes is not portable:
  ‘OnassisJavaLibs/java/slib/slib-sml/src/main/java/slib/sml/sm/core/measures/graph/pairwise/dag/node_based/Sim_pairwise_DAG_node_Resnik_1995.java’
Warning in utils::tar(filepath, pkgname, compression = compression, compression_level = 9L,  :
  storing paths of more than 100 bytes is not portable:
  ‘OnassisJavaLibs/java/slib/slib-sml/src/main/java/slib/sml/sm/core/measures/graph/pairwise/dag/node_based/Sim_pairwise_DAG_node_Schlicker_2006_SimRel.java’
Warning in utils::tar(filepath, pkgname, compression = compression, compression_level = 9L,  :
  storing paths of more than 100 bytes is not portable:
  ‘OnassisJavaLibs/java/slib/slib-sml/src/main/java/slib/sml/sm/core/measures/graph/pairwise/dag/node_based/Sim_pairwise_DAG_node_Sim_IC_2010.java’
Warning in utils::tar(filepath, pkgname, compression = compression, compression_level = 9L,  :
  storing paths of more than 100 bytes is not portable:
  ‘OnassisJavaLibs/java/slib/slib-sml/src/main/java/slib/sml/sm/core/measures/graph/pairwise/dag/node_based/experimental/’
Warning in utils::tar(filepath, pkgname, compression = compression, compression_level = 9L,  :
  storing paths of more than 100 bytes is not portable:
  ‘OnassisJavaLibs/java/slib/slib-sml/src/main/java/slib/sml/sm/core/measures/graph/pairwise/dag/node_based/experimental/Sim_pairwise_DAG_node_GL_GraSM.java’
Warning in utils::tar(filepath, pkgname, compression = compression, compression_level = 9L,  :
  storing paths of more than 100 bytes is not portable:
  ‘OnassisJavaLibs/java/slib/slib-sml/src/main/java/slib/sml/sm/core/measures/graph/pairwise/dag/node_based/experimental/Sim_pairwise_DAG_node_Harispe_2013.java’
Warning in utils::tar(filepath, pkgname, compression = compression, compression_level = 9L,  :
  storing paths of more than 100 bytes is not portable:
  ‘OnassisJavaLibs/java/slib/slib-sml/src/main/java/slib/sml/sm/core/measures/graph/pairwise/dag/node_based/experimental/Sim_pairwise_DAG_node_Lin_1998_GraSM.java’
Warning in utils::tar(filepath, pkgname, compression = compression, compression_level = 9L,  :
  storing paths of more than 100 bytes is not portable:
  ‘OnassisJavaLibs/java/slib/slib-sml/src/main/java/slib/sml/sm/core/measures/graph/pairwise/dag/node_based/experimental/Sim_pairwise_DAG_node_Mazandu_2012.java’
Warning in utils::tar(filepath, pkgname, compression = compression, compression_level = 9L,  :
  storing paths of more than 100 bytes is not portable:
  ‘OnassisJavaLibs/java/slib/slib-sml/src/main/java/slib/sml/sm/core/measures/graph/pairwise/dag/node_based/experimental/Sim_pairwise_DAG_node_Resnik_1995_Ancestors.java’
Warning in utils::tar(filepath, pkgname, compression = compression, compression_level = 9L,  :
  storing paths of more than 100 bytes is not portable:
  ‘OnassisJavaLibs/java/slib/slib-sml/src/main/java/slib/sml/sm/core/measures/graph/pairwise/dag/node_based/experimental/Sim_pairwise_DAG_node_Resnik_1995_Descendants.java’
Warning in utils::tar(filepath, pkgname, compression = compression, compression_level = 9L,  :
  storing paths of more than 100 bytes is not portable:
  ‘OnassisJavaLibs/java/slib/slib-sml/src/main/java/slib/sml/sm/core/measures/graph/pairwise/dag/node_based/experimental/Sim_pairwise_DAG_node_Resnik_1995_GraSM.java’
Warning in utils::tar(filepath, pkgname, compression = compression, compression_level = 9L,  :
  storing paths of more than 100 bytes is not portable:
  ‘OnassisJavaLibs/java/slib/slib-sml/src/main/java/slib/sml/sm/core/measures/graph/pairwise/dag/node_based/experimental/Sim_pairwise_DAG_node_Schlicker_3WJaccard_SimRel.java’
Warning in utils::tar(filepath, pkgname, compression = compression, compression_level = 9L,  :
  storing paths of more than 100 bytes is not portable:
  ‘OnassisJavaLibs/java/slib/slib-sml/src/main/java/slib/sml/sm/core/measures/graph/pairwise/dag/node_based/experimental/Sim_pairwise_DAG_node_Schlicker_GL_SimRel.java’
Warning in utils::tar(filepath, pkgname, compression = compression, compression_level = 9L,  :
  storing paths of more than 100 bytes is not portable:
  ‘OnassisJavaLibs/java/slib/slib-sml/src/main/java/slib/sml/sm/core/measures/graph/pairwise/dag/node_based/experimental/Sim_pairwise_DAG_node_Schlicker_Jaccard_SimRel.java’
Warning in utils::tar(filepath, pkgname, compression = compression, compression_level = 9L,  :
  storing paths of more than 100 bytes is not portable:
  ‘OnassisJavaLibs/java/slib/slib-sml/src/main/java/slib/sml/sm/core/measures/graph/pairwise/dag/node_based/experimental/Sim_pairwise_DAG_node_Schlicker_Tversky_SimRel.java’
Warning in utils::tar(filepath, pkgname, compression = compression, compression_level = 9L,  :
  storing paths of more than 100 bytes is not portable:
  ‘OnassisJavaLibs/java/slib/slib-sml/src/main/java/slib/sml/sm/core/measures/others/groupwise/direct/Sim_groupwise_Random.java’
Warning in utils::tar(filepath, pkgname, compression = compression, compression_level = 9L,  :
  storing paths of more than 100 bytes is not portable:
  ‘OnassisJavaLibs/java/slib/slib-sml/src/main/java/slib/sml/sm/core/measures/others/groupwise/direct/vector/’
Warning in utils::tar(filepath, pkgname, compression = compression, compression_level = 9L,  :
  storing paths of more than 100 bytes is not portable:
  ‘OnassisJavaLibs/java/slib/slib-sml/src/main/java/slib/sml/sm/core/measures/others/groupwise/direct/vector/VectorSpaceModel.java’
Warning in utils::tar(filepath, pkgname, compression = compression, compression_level = 9L,  :
  storing paths of more than 100 bytes is not portable:
  ‘OnassisJavaLibs/java/slib/slib-sml/src/main/java/slib/sml/sm/core/measures/others/groupwise/indirect/’
Warning in utils::tar(filepath, pkgname, compression = compression, compression_level = 9L,  :
  storing paths of more than 100 bytes is not portable:
  ‘OnassisJavaLibs/java/slib/slib-sml/src/main/java/slib/sml/sm/core/measures/others/groupwise/indirect/Sim_groupwise_Average.java’
Warning in utils::tar(filepath, pkgname, compression = compression, compression_level = 9L,  :
  storing paths of more than 100 bytes is not portable:
  ‘OnassisJavaLibs/java/slib/slib-sml/src/main/java/slib/sml/sm/core/measures/others/groupwise/indirect/Sim_groupwise_BestMatchAverage.java’
Warning in utils::tar(filepath, pkgname, compression = compression, compression_level = 9L,  :
  storing paths of more than 100 bytes is not portable:
  ‘OnassisJavaLibs/java/slib/slib-sml/src/main/java/slib/sml/sm/core/measures/others/groupwise/indirect/Sim_groupwise_BestMatchMax.java’
Warning in utils::tar(filepath, pkgname, compression = compression, compression_level = 9L,  :
  storing paths of more than 100 bytes is not portable:
  ‘OnassisJavaLibs/java/slib/slib-sml/src/main/java/slib/sml/sm/core/measures/others/groupwise/indirect/Sim_groupwise_Lord_2003.java’
Warning in utils::tar(filepath, pkgname, compression = compression, compression_level = 9L,  :
  storing paths of more than 100 bytes is not portable:
  ‘OnassisJavaLibs/java/slib/slib-sml/src/main/java/slib/sml/sm/core/measures/others/groupwise/indirect/Sim_groupwise_Max.java’
Warning in utils::tar(filepath, pkgname, compression = compression, compression_level = 9L,  :
  storing paths of more than 100 bytes is not portable:
  ‘OnassisJavaLibs/java/slib/slib-sml/src/main/java/slib/sml/sm/core/measures/others/groupwise/indirect/Sim_groupwise_Min.java’
Warning in utils::tar(filepath, pkgname, compression = compression, compression_level = 9L,  :
  storing paths of more than 100 bytes is not portable:
  ‘OnassisJavaLibs/java/slib/slib-sml/src/main/java/slib/sml/sm/core/measures/others/groupwise/indirect/experimental/’
Warning in utils::tar(filepath, pkgname, compression = compression, compression_level = 9L,  :
  storing paths of more than 100 bytes is not portable:
  ‘OnassisJavaLibs/java/slib/slib-sml/src/main/java/slib/sml/sm/core/measures/others/groupwise/indirect/experimental/Sim_groupwise_AVERAGE_NORMALIZED_GOSIM.java’
Warning in utils::tar(filepath, pkgname, compression = compression, compression_level = 9L,  :
  storing paths of more than 100 bytes is not portable:
  ‘OnassisJavaLibs/java/slib/slib-sml/src/main/java/slib/sml/sm/core/measures/others/groupwise/indirect/experimental/Sim_groupwise_MAX_NORMALIZED_GOSIM.java’
Warning in utils::tar(filepath, pkgname, compression = compression, compression_level = 9L,  :
  storing paths of more than 100 bytes is not portable:
  ‘OnassisJavaLibs/java/slib/slib-sml/src/main/java/slib/sml/sm/core/measures/others/pairwise/Sim_pairwise_Random.java’
Warning in utils::tar(filepath, pkgname, compression = compression, compression_level = 9L,  :
  storing paths of more than 100 bytes is not portable:
  ‘OnassisJavaLibs/java/slib/slib-sml/src/main/java/slib/sml/sm/core/measures/string/LevenshteinDistance.java’
Warning in utils::tar(filepath, pkgname, compression = compression, compression_level = 9L,  :
  storing paths of more than 100 bytes is not portable:
  ‘OnassisJavaLibs/java/slib/slib-sml/src/main/java/slib/sml/sm/core/measures/string/LevenshteinSimilarity.java’
Warning in utils::tar(filepath, pkgname, compression = compression, compression_level = 9L,  :
  storing paths of more than 100 bytes is not portable:
  ‘OnassisJavaLibs/java/slib/slib-sml/src/main/java/slib/sml/sm/core/measures/vector/CosineSimilarity.java’
Warning in utils::tar(filepath, pkgname, compression = compression, compression_level = 9L,  :
  storing paths of more than 100 bytes is not portable:
  ‘OnassisJavaLibs/java/slib/slib-sml/src/main/java/slib/sml/sm/core/metrics/ic/annot/IC_annot_resnik_1995.java’
Warning in utils::tar(filepath, pkgname, compression = compression, compression_level = 9L,  :
  storing paths of more than 100 bytes is not portable:
  ‘OnassisJavaLibs/java/slib/slib-sml/src/main/java/slib/sml/sm/core/metrics/ic/annot/IC_annot_resnik_1995_Normalized.java’
Warning in utils::tar(filepath, pkgname, compression = compression, compression_level = 9L,  :
  storing paths of more than 100 bytes is not portable:
  ‘OnassisJavaLibs/java/slib/slib-sml/src/main/java/slib/sml/sm/core/metrics/ic/annot/IC_probOccurence_propagatted.java’
Warning in utils::tar(filepath, pkgname, compression = compression, compression_level = 9L,  :
  storing paths of more than 100 bytes is not portable:
  ‘OnassisJavaLibs/java/slib/slib-sml/src/main/java/slib/sml/sm/core/metrics/ic/topo/ICi_ancestors_norm.java’
Warning in utils::tar(filepath, pkgname, compression = compression, compression_level = 9L,  :
  storing paths of more than 100 bytes is not portable:
  ‘OnassisJavaLibs/java/slib/slib-sml/src/main/java/slib/sml/sm/core/metrics/ic/topo/ICi_depth_max_linear.java’
Warning in utils::tar(filepath, pkgname, compression = compression, compression_level = 9L,  :
  storing paths of more than 100 bytes is not portable:
  ‘OnassisJavaLibs/java/slib/slib-sml/src/main/java/slib/sml/sm/core/metrics/ic/topo/ICi_depth_max_nonlinear.java’
Warning in utils::tar(filepath, pkgname, compression = compression, compression_level = 9L,  :
  storing paths of more than 100 bytes is not portable:
  ‘OnassisJavaLibs/java/slib/slib-sml/src/main/java/slib/sml/sm/core/metrics/ic/topo/ICi_depth_min_nonlinear.java’
Warning in utils::tar(filepath, pkgname, compression = compression, compression_level = 9L,  :
  storing paths of more than 100 bytes is not portable:
  ‘OnassisJavaLibs/java/slib/slib-sml/src/main/java/slib/sml/sm/core/metrics/ic/topo/ICi_harispe_2012.java’
Warning in utils::tar(filepath, pkgname, compression = compression, compression_level = 9L,  :
  storing paths of more than 100 bytes is not portable:
  ‘OnassisJavaLibs/java/slib/slib-sml/src/main/java/slib/sml/sm/core/metrics/ic/topo/ICi_probOccurence.java’
Warning in utils::tar(filepath, pkgname, compression = compression, compression_level = 9L,  :
  storing paths of more than 100 bytes is not portable:
  ‘OnassisJavaLibs/java/slib/slib-sml/src/main/java/slib/sml/sm/core/metrics/ic/topo/ICi_probOccurence_propagatted.java’
Warning in utils::tar(filepath, pkgname, compression = compression, compression_level = 9L,  :
  storing paths of more than 100 bytes is not portable:
  ‘OnassisJavaLibs/java/slib/slib-sml/src/main/java/slib/sml/sm/core/metrics/ic/topo/ICi_resnik_1995.java’
Warning in utils::tar(filepath, pkgname, compression = compression, compression_level = 9L,  :
  storing paths of more than 100 bytes is not portable:
  ‘OnassisJavaLibs/java/slib/slib-sml/src/main/java/slib/sml/sm/core/metrics/ic/topo/ICi_resnik_unpropagatted_1995.java’
Warning in utils::tar(filepath, pkgname, compression = compression, compression_level = 9L,  :
  storing paths of more than 100 bytes is not portable:
  ‘OnassisJavaLibs/java/slib/slib-sml/src/main/java/slib/sml/sm/core/metrics/ic/topo/ICi_sanchez_2011.java’
Warning in utils::tar(filepath, pkgname, compression = compression, compression_level = 9L,  :
  storing paths of more than 100 bytes is not portable:
  ‘OnassisJavaLibs/java/slib/slib-sml/src/main/java/slib/sml/sm/core/metrics/ic/topo/ICi_sanchez_2011_b_adapted.java’
Warning in utils::tar(filepath, pkgname, compression = compression, compression_level = 9L,  :
  storing paths of more than 100 bytes is not portable:
  ‘OnassisJavaLibs/java/slib/slib-sml/src/main/java/slib/sml/sm/core/metrics/ic/utils/IC_Conf_Corpus.java’
Warning in utils::tar(filepath, pkgname, compression = compression, compression_level = 9L,  :
  storing paths of more than 100 bytes is not portable:
  ‘OnassisJavaLibs/java/slib/slib-sml/src/main/java/slib/sml/sm/core/metrics/ic/utils/ProbOccurence.java’
Warning in utils::tar(filepath, pkgname, compression = compression, compression_level = 9L,  :
  storing paths of more than 100 bytes is not portable:
  ‘OnassisJavaLibs/java/slib/slib-sml/src/main/java/slib/sml/sm/core/metrics/utils/LogBasedMetricInterface.java’
Warning in utils::tar(filepath, pkgname, compression = compression, compression_level = 9L,  :
  storing paths of more than 100 bytes is not portable:
  ‘OnassisJavaLibs/java/slib/slib-sml/src/main/java/slib/sml/sm/core/metrics/vector/VectorWeight_Chabalier_2007.java’
Warning in utils::tar(filepath, pkgname, compression = compression, compression_level = 9L,  :
  storing paths of more than 100 bytes is not portable:
  ‘OnassisJavaLibs/java/slib/slib-sml/src/main/java/slib/sml/sm/core/metrics/vector/VectorWeight_Chabalier_Propaggated.java’
Warning in utils::tar(filepath, pkgname, compression = compression, compression_level = 9L,  :
  storing paths of more than 100 bytes is not portable:
  ‘OnassisJavaLibs/java/slib/slib-sml/src/main/resources/scripts/R/discriminative_power/plotDiscriminativePower.R’
Warning in utils::tar(filepath, pkgname, compression = compression, compression_level = 9L,  :
  storing paths of more than 100 bytes is not portable:
  ‘OnassisJavaLibs/java/slib/slib-sml/src/main/resources/scripts/python/kegg_trembl_mapping/human_pathways_prots_kegg_mapping’
Warning in utils::tar(filepath, pkgname, compression = compression, compression_level = 9L,  :
  storing paths of more than 100 bytes is not portable:
  ‘OnassisJavaLibs/java/slib/slib-sml/src/main/resources/scripts/python/kegg_trembl_mapping/keggToUniprot.py’
Warning in utils::tar(filepath, pkgname, compression = compression, compression_level = 9L,  :
  storing paths of more than 100 bytes is not portable:
  ‘OnassisJavaLibs/java/slib/slib-sml/src/main/resources/scripts/python/kegg_trembl_mapping/pathways_prots’
Warning in utils::tar(filepath, pkgname, compression = compression, compression_level = 9L,  :
  storing paths of more than 100 bytes is not portable:
  ‘OnassisJavaLibs/java/slib/slib-sml/src/main/resources/scripts/python/kegg_trembl_mapping/yeast_pathways_prots’
Warning in utils::tar(filepath, pkgname, compression = compression, compression_level = 9L,  :
  storing paths of more than 100 bytes is not portable:
  ‘OnassisJavaLibs/java/slib/slib-sml/src/main/resources/scripts/python/pfam_uniprot_kb/buildUniprotKB_pfam_Mapping.py’