Back to Build/check report for BioC 3.20 experimental data
ABCDEFGHIJKLMN[O]PQRSTUVWXYZ

This page was generated on 2024-06-20 14:51 -0400 (Thu, 20 Jun 2024).

HostnameOSArch (*)R versionInstalled pkgs
nebbiolo2Linux (Ubuntu 22.04.3 LTS)x86_644.4.0 RC (2024-04-16 r86468) -- "Puppy Cup" 4687
Click on any hostname to see more info about the system (e.g. compilers)      (*) as reported by 'uname -p', except on Windows and Mac OS X

Package 276/425HostnameOS / ArchINSTALLBUILDCHECK
OMICsPCAdata 1.23.0  (landing page)
Subhadeep Das
Snapshot Date: 2024-06-20 07:30 -0400 (Thu, 20 Jun 2024)
git_url: https://git.bioconductor.org/packages/OMICsPCAdata
git_branch: devel
git_last_commit: ef18c82
git_last_commit_date: 2024-04-30 10:50:42 -0400 (Tue, 30 Apr 2024)
nebbiolo2Linux (Ubuntu 22.04.3 LTS) / x86_64  OK    OK    WARNINGS  UNNEEDED, same version is already published


BUILD results for OMICsPCAdata on nebbiolo2

To the developers/maintainers of the OMICsPCAdata package:
- Use the following Renviron settings to reproduce errors and warnings.
- If 'R CMD check' started to fail recently on the Linux builder(s) over a missing dependency, add the missing dependency to 'Suggests:' in your DESCRIPTION file. See Renviron.bioc for more information.

raw results


Summary

Package: OMICsPCAdata
Version: 1.23.0
Command: /home/biocbuild/bbs-3.20-bioc/R/bin/R CMD build --keep-empty-dirs --no-resave-data OMICsPCAdata
StartedAt: 2024-06-20 10:43:27 -0400 (Thu, 20 Jun 2024)
EndedAt: 2024-06-20 10:44:24 -0400 (Thu, 20 Jun 2024)
EllapsedTime: 57.2 seconds
RetCode: 0
Status:   OK  
PackageFile: OMICsPCAdata_1.23.0.tar.gz
PackageFileSize: 42.44 MiB

Command output

##############################################################################
##############################################################################
###
### Running command:
###
###   /home/biocbuild/bbs-3.20-bioc/R/bin/R CMD build --keep-empty-dirs --no-resave-data OMICsPCAdata
###
##############################################################################
##############################################################################


* checking for file ‘OMICsPCAdata/DESCRIPTION’ ... OK
* preparing ‘OMICsPCAdata’:
* checking DESCRIPTION meta-information ... OK
* installing the package to build vignettes
* creating vignettes ... OK
* checking for LF line-endings in source and make files and shell scripts
* checking for empty or unneeded directories
* building ‘OMICsPCAdata_1.23.0.tar.gz’