Back to Build/check report for BioC 3.14 experimental data
ABCDEFGHIJKLM[N]OPQRSTUVWXYZ

This page was generated on 2021-10-16 15:51:46 -0400 (Sat, 16 Oct 2021).

BUILD results for NestLink on nebbiolo2

To the developers/maintainers of the NestLink package:
Make sure to use the following settings in order to reproduce any error or warning you see on this page.

raw results

Package 254/404HostnameOS / ArchINSTALLBUILDCHECK
NestLink 1.9.0  (landing page)
Lennart Opitz
Snapshot Date: 2021-10-16 09:30:02 -0400 (Sat, 16 Oct 2021)
git_url: https://git.bioconductor.org/packages/NestLink
git_branch: master
git_last_commit: 861c35a
git_last_commit_date: 2021-05-19 12:07:22 -0400 (Wed, 19 May 2021)
nebbiolo2Linux (Ubuntu 20.04.2 LTS) / x86_64  OK    OK    OK  UNNEEDED, same version is already published

Summary

Package: NestLink
Version: 1.9.0
Command: /home/biocbuild/bbs-3.14-bioc/R/bin/R CMD build --keep-empty-dirs --no-resave-data NestLink
StartedAt: 2021-10-16 11:28:45 -0400 (Sat, 16 Oct 2021)
EndedAt: 2021-10-16 11:32:22 -0400 (Sat, 16 Oct 2021)
EllapsedTime: 216.7 seconds
RetCode: 0
Status:   OK  
PackageFile: NestLink_1.9.0.tar.gz
PackageFileSize: 5.548 MiB

Command output

##############################################################################
##############################################################################
###
### Running command:
###
###   /home/biocbuild/bbs-3.14-bioc/R/bin/R CMD build --keep-empty-dirs --no-resave-data NestLink
###
##############################################################################
##############################################################################


* checking for file ‘NestLink/DESCRIPTION’ ... OK
* preparing ‘NestLink’:
* checking DESCRIPTION meta-information ... OK
* installing the package to build vignettes
* creating vignettes ... OK
* checking for LF line-endings in source and make files and shell scripts
* checking for empty or unneeded directories
* building ‘NestLink_1.9.0.tar.gz’