Index of /checkResults/devel/data-experiment-LATEST/NanoporeRNASeq/raw-results/nebbiolo2

[ICO]NameLast modifiedSizeDescription

[DIR]Parent Directory  -  
[TXT]buildsrc-out.txt20-Jan-2022 22:37 844  
[   ]buildsrc-summary.dcf20-Jan-2022 22:37 448  
[TXT]checksrc-out.txt20-Jan-2022 22:37 2.9K 
[   ]checksrc-summary.dcf20-Jan-2022 22:37 471  
[TXT]install-out.txt20-Jan-2022 22:37 1.0K 
[   ]install-summary.dcf20-Jan-2022 22:37 283