Index of /checkResults/devel/data-experiment-LATEST/NanoporeRNASeq/raw-results

[ICO]NameLast modifiedSizeDescription

[DIR]Parent Directory  -  
[   ]info.dcf20-May-2022 03:50 282  
[DIR]nebbiolo2/20-May-2022 03:50 -