Back to Build/check report for BioC 3.14 experimental data
ABCDEFGHIJKLM[N]OPQRSTUVWXYZ

This page was generated on 2021-10-16 15:51:46 -0400 (Sat, 16 Oct 2021).

INSTALL results for NanoporeRNASeq on nebbiolo2

To the developers/maintainers of the NanoporeRNASeq package:
Make sure to use the following settings in order to reproduce any error or warning you see on this page.

raw results

Package 251/404HostnameOS / ArchINSTALLBUILDCHECK
NanoporeRNASeq 1.3.3  (landing page)
Ying Chen Developer
Snapshot Date: 2021-10-16 09:30:02 -0400 (Sat, 16 Oct 2021)
git_url: https://git.bioconductor.org/packages/NanoporeRNASeq
git_branch: master
git_last_commit: bcb76fe
git_last_commit_date: 2021-10-16 06:59:56 -0400 (Sat, 16 Oct 2021)
nebbiolo2Linux (Ubuntu 20.04.2 LTS) / x86_64  OK    ERROR  skipped

Summary

Package: NanoporeRNASeq
Version: 1.3.3
Command: /home/biocbuild/bbs-3.14-bioc/R/bin/R CMD INSTALL NanoporeRNASeq
StartedAt: 2021-10-16 11:03:22 -0400 (Sat, 16 Oct 2021)
EndedAt: 2021-10-16 11:03:29 -0400 (Sat, 16 Oct 2021)
EllapsedTime: 7.6 seconds
RetCode: 0
Status:   OK  

Command output

##############################################################################
##############################################################################
###
### Running command:
###
###   /home/biocbuild/bbs-3.14-bioc/R/bin/R CMD INSTALL NanoporeRNASeq
###
##############################################################################
##############################################################################


* installing to library ‘/home/biocbuild/bbs-3.14-bioc/R/library’
* installing *source* package ‘NanoporeRNASeq’ ...
** using staged installation
** data
*** moving datasets to lazyload DB
** inst
** help
*** installing help indices
** building package indices
** installing vignettes
** testing if installed package can be loaded from temporary location
** testing if installed package can be loaded from final location
** testing if installed package keeps a record of temporary installation path
* DONE (NanoporeRNASeq)