Back to Build/check report for BioC 3.16 experimental data |
|
This page was generated on 2022-08-11 14:50:24 -0400 (Thu, 11 Aug 2022).
Hostname | OS | Arch (*) | R version | Installed pkgs |
---|---|---|---|---|
nebbiolo2 | Linux (Ubuntu 20.04.4 LTS) | x86_64 | 4.2.1 (2022-06-23) -- "Funny-Looking Kid" | 4375 |
Click on any hostname to see more info about the system (e.g. compilers) (*) as reported by 'uname -p', except on Windows and Mac OS X |
To the developers/maintainers of the NanoporeRNASeq package: Make sure to use the following settings in order to reproduce any error or warning you see on this page. |
Package 253/409 | Hostname | OS / Arch | INSTALL | BUILD | CHECK | ||||||||
NanoporeRNASeq 1.7.0 (landing page) Ying Chen
| nebbiolo2 | Linux (Ubuntu 20.04.4 LTS) / x86_64 | OK | OK | OK | ![]() | |||||||