Index of /checkResults/devel/data-experiment-LATEST/MouseThymusAgeing/raw-results/nebbiolo2

[ICO]NameLast modifiedSizeDescription

[DIR]Parent Directory  -  
[TXT]buildsrc-out.txt20-Jan-2022 22:37 896  
[   ]buildsrc-summary.dcf20-Jan-2022 22:37 456  
[TXT]checksrc-out.txt20-Jan-2022 22:37 3.4K 
[   ]checksrc-summary.dcf20-Jan-2022 22:37 484  
[TXT]install-out.txt20-Jan-2022 22:37 1.0K 
[   ]install-summary.dcf20-Jan-2022 22:37 289