Back to Build/check report for BioC 3.14 experimental data
ABCDEFGHIJKL[M]NOPQRSTUVWXYZ

This page was generated on 2021-10-23 15:51:47 -0400 (Sat, 23 Oct 2021).

BUILD results for MethylSeqData on nebbiolo2

To the developers/maintainers of the MethylSeqData package:
Make sure to use the following settings in order to reproduce any error or warning you see on this page.

raw results

Package 225/408HostnameOS / ArchINSTALLBUILDCHECK
MethylSeqData 1.3.0  (landing page)
Peter Hickey
Snapshot Date: 2021-10-23 09:30:01 -0400 (Sat, 23 Oct 2021)
git_url: https://git.bioconductor.org/packages/MethylSeqData
git_branch: master
git_last_commit: 2b835c5
git_last_commit_date: 2021-05-19 12:11:09 -0400 (Wed, 19 May 2021)
nebbiolo2Linux (Ubuntu 20.04.2 LTS) / x86_64  OK    OK    OK  UNNEEDED, same version is already published

Summary

Package: MethylSeqData
Version: 1.3.0
Command: /home/biocbuild/bbs-3.14-bioc/R/bin/R CMD build --keep-empty-dirs --no-resave-data MethylSeqData
StartedAt: 2021-10-23 11:28:36 -0400 (Sat, 23 Oct 2021)
EndedAt: 2021-10-23 11:29:19 -0400 (Sat, 23 Oct 2021)
EllapsedTime: 43.0 seconds
RetCode: 0
Status:   OK  
PackageFile: MethylSeqData_1.3.0.tar.gz
PackageFileSize: 226.9 KiB

Command output

##############################################################################
##############################################################################
###
### Running command:
###
###   /home/biocbuild/bbs-3.14-bioc/R/bin/R CMD build --keep-empty-dirs --no-resave-data MethylSeqData
###
##############################################################################
##############################################################################


* checking for file ‘MethylSeqData/DESCRIPTION’ ... OK
* preparing ‘MethylSeqData’:
* checking DESCRIPTION meta-information ... OK
* installing the package to build vignettes
* creating vignettes ... OK
* checking for LF line-endings in source and make files and shell scripts
* checking for empty or unneeded directories
* building ‘MethylSeqData_1.3.0.tar.gz’