Back to Build/check report for BioC 3.15 experimental data
ABCDEFGHIJKL[M]NOPQRSTUVWXYZ

This page was generated on 2021-12-05 17:50:12 -0500 (Sun, 05 Dec 2021).

All results for package MethylSeqData

To the developers/maintainers of the MethylSeqData package:
Make sure to use the following settings in order to reproduce any error or warning you see on this page.

raw results

Package 223/404HostnameOS / ArchINSTALLBUILDCHECK
MethylSeqData 1.5.0  (landing page)
Peter Hickey
Snapshot Date: 2021-12-05 07:30:02 -0500 (Sun, 05 Dec 2021)
git_url: https://git.bioconductor.org/packages/MethylSeqData
git_branch: master
git_last_commit: dc0c981
git_last_commit_date: 2021-10-26 12:39:21 -0500 (Tue, 26 Oct 2021)
nebbiolo2Linux (Ubuntu 20.04.3 LTS) / x86_64  OK    OK    OK  UNNEEDED, same version is already published