Back to Build/check report for BioC 3.14 experimental data
ABCDEFGHIJKL[M]NOPQRSTUVWXYZ

This page was generated on 2021-10-23 15:51:47 -0400 (Sat, 23 Oct 2021).

BUILD results for MetaGxPancreas on nebbiolo2

To the developers/maintainers of the MetaGxPancreas package:
Make sure to use the following settings in order to reproduce any error or warning you see on this page.

raw results

Package 221/408HostnameOS / ArchINSTALLBUILDCHECK
MetaGxPancreas 1.13.2  (landing page)
Benjamin Haibe-Kains
Snapshot Date: 2021-10-23 09:30:01 -0400 (Sat, 23 Oct 2021)
git_url: https://git.bioconductor.org/packages/MetaGxPancreas
git_branch: master
git_last_commit: 33e5c61
git_last_commit_date: 2021-08-11 12:50:01 -0400 (Wed, 11 Aug 2021)
nebbiolo2Linux (Ubuntu 20.04.2 LTS) / x86_64  OK    OK    OK  UNNEEDED, same version is already published

Summary

Package: MetaGxPancreas
Version: 1.13.2
Command: /home/biocbuild/bbs-3.14-bioc/R/bin/R CMD build --keep-empty-dirs --no-resave-data MetaGxPancreas
StartedAt: 2021-10-23 11:28:02 -0400 (Sat, 23 Oct 2021)
EndedAt: 2021-10-23 11:29:21 -0400 (Sat, 23 Oct 2021)
EllapsedTime: 79.0 seconds
RetCode: 0
Status:   OK  
PackageFile: MetaGxPancreas_1.13.2.tar.gz
PackageFileSize: 16.71 KiB

Command output

##############################################################################
##############################################################################
###
### Running command:
###
###   /home/biocbuild/bbs-3.14-bioc/R/bin/R CMD build --keep-empty-dirs --no-resave-data MetaGxPancreas
###
##############################################################################
##############################################################################


* checking for file ‘MetaGxPancreas/DESCRIPTION’ ... OK
* preparing ‘MetaGxPancreas’:
* checking DESCRIPTION meta-information ... OK
* installing the package to build vignettes
* creating vignettes ... OK
* checking for LF line-endings in source and make files and shell scripts
* checking for empty or unneeded directories
Omitted ‘LazyData’ from DESCRIPTION
* building ‘MetaGxPancreas_1.13.2.tar.gz’