Back to Build/check report for BioC 3.14 experimental data
ABCDEFGHIJKL[M]NOPQRSTUVWXYZ

This page was generated on 2021-07-29 15:51:05 -0400 (Thu, 29 Jul 2021).

All results for package MetaGxPancreas

To the developers/maintainers of the MetaGxPancreas package:
Make sure to use the following settings in order to reproduce any error or warning you see on this page.

raw results

Package 217/397HostnameOS / ArchINSTALLBUILDCHECK
MetaGxPancreas 1.13.1  (landing page)
Michael Zon
Snapshot Date: 2021-07-29 09:30:02 -0400 (Thu, 29 Jul 2021)
URL: https://git.bioconductor.org/packages/MetaGxPancreas
Branch: master
Last Commit: fc6a75f
Last Changed Date: 2021-06-21 11:09:05 -0400 (Mon, 21 Jun 2021)
nebbiolo2Linux (Ubuntu 20.04.2 LTS) / x86_64  OK    ERROR  skipped