Back to Build/check report for BioC 3.14 experimental data
ABCDEFGHIJKL[M]NOPQRSTUVWXYZ

This page was generated on 2021-10-16 15:51:46 -0400 (Sat, 16 Oct 2021).

INSTALL results for MSstatsBioData on nebbiolo2

To the developers/maintainers of the MSstatsBioData package:
Make sure to use the following settings in order to reproduce any error or warning you see on this page.

raw results

Package 246/404HostnameOS / ArchINSTALLBUILDCHECK
MSstatsBioData 1.15.0  (landing page)
Meena Choi
Snapshot Date: 2021-10-16 09:30:02 -0400 (Sat, 16 Oct 2021)
git_url: https://git.bioconductor.org/packages/MSstatsBioData
git_branch: master
git_last_commit: 21b9678
git_last_commit_date: 2021-05-19 12:01:16 -0400 (Wed, 19 May 2021)
nebbiolo2Linux (Ubuntu 20.04.2 LTS) / x86_64  OK    ERROR  skipped

Summary

Package: MSstatsBioData
Version: 1.15.0
Command: /home/biocbuild/bbs-3.14-bioc/R/bin/R CMD INSTALL MSstatsBioData
StartedAt: 2021-10-16 11:00:08 -0400 (Sat, 16 Oct 2021)
EndedAt: 2021-10-16 11:00:12 -0400 (Sat, 16 Oct 2021)
EllapsedTime: 4.3 seconds
RetCode: 0
Status:   OK  

Command output

##############################################################################
##############################################################################
###
### Running command:
###
###   /home/biocbuild/bbs-3.14-bioc/R/bin/R CMD INSTALL MSstatsBioData
###
##############################################################################
##############################################################################


* installing to library ‘/home/biocbuild/bbs-3.14-bioc/R/library’
* installing *source* package ‘MSstatsBioData’ ...
** using staged installation
** data
*** moving datasets to lazyload DB
** inst
** help
*** installing help indices
** building package indices
** installing vignettes
** testing if installed package can be loaded from temporary location
** testing if installed package can be loaded from final location
** testing if installed package keeps a record of temporary installation path
* DONE (MSstatsBioData)