Back to Build/check report for BioC 3.14 experimental data
ABCDEFGHIJKL[M]NOPQRSTUVWXYZ

This page was generated on 2021-10-16 15:51:46 -0400 (Sat, 16 Oct 2021).

BUILD results for MMAPPR2data on nebbiolo2

To the developers/maintainers of the MMAPPR2data package:
Make sure to use the following settings in order to reproduce any error or warning you see on this page.

raw results

Package 233/404HostnameOS / ArchINSTALLBUILDCHECK
MMAPPR2data 1.7.0  (landing page)
Jonathon Hill
Snapshot Date: 2021-10-16 09:30:02 -0400 (Sat, 16 Oct 2021)
git_url: https://git.bioconductor.org/packages/MMAPPR2data
git_branch: master
git_last_commit: de9db0e
git_last_commit_date: 2021-05-19 12:08:50 -0400 (Wed, 19 May 2021)
nebbiolo2Linux (Ubuntu 20.04.2 LTS) / x86_64  OK    OK    OK  UNNEEDED, same version is already published

Summary

Package: MMAPPR2data
Version: 1.7.0
Command: /home/biocbuild/bbs-3.14-bioc/R/bin/R CMD build --keep-empty-dirs --no-resave-data MMAPPR2data
StartedAt: 2021-10-16 11:27:51 -0400 (Sat, 16 Oct 2021)
EndedAt: 2021-10-16 11:27:56 -0400 (Sat, 16 Oct 2021)
EllapsedTime: 5.1 seconds
RetCode: 0
Status:   OK  
PackageFile: MMAPPR2data_1.7.0.tar.gz
PackageFileSize: 490.2 KiB

Command output

##############################################################################
##############################################################################
###
### Running command:
###
###   /home/biocbuild/bbs-3.14-bioc/R/bin/R CMD build --keep-empty-dirs --no-resave-data MMAPPR2data
###
##############################################################################
##############################################################################


* checking for file ‘MMAPPR2data/DESCRIPTION’ ... OK
* preparing ‘MMAPPR2data’:
* checking DESCRIPTION meta-information ... OK
* installing the package to build vignettes
* creating vignettes ... OK
* checking for LF line-endings in source and make files and shell scripts
* checking for empty or unneeded directories
* building ‘MMAPPR2data_1.7.0.tar.gz’