Back to Build/check report for BioC 3.14 experimental data
ABCDEFGHIJKL[M]NOPQRSTUVWXYZ

This page was generated on 2021-10-16 15:51:46 -0400 (Sat, 16 Oct 2021).

BUILD results for MIGSAdata on nebbiolo2

To the developers/maintainers of the MIGSAdata package:
Make sure to use the following settings in order to reproduce any error or warning you see on this page.

raw results

Package 227/404HostnameOS / ArchINSTALLBUILDCHECK
MIGSAdata 1.17.0  (landing page)
Juan C. Rodriguez
Snapshot Date: 2021-10-16 09:30:02 -0400 (Sat, 16 Oct 2021)
git_url: https://git.bioconductor.org/packages/MIGSAdata
git_branch: master
git_last_commit: 55c31a8
git_last_commit_date: 2021-05-19 12:00:48 -0400 (Wed, 19 May 2021)
nebbiolo2Linux (Ubuntu 20.04.2 LTS) / x86_64  OK    OK    OK  UNNEEDED, same version is already published

Summary

Package: MIGSAdata
Version: 1.17.0
Command: /home/biocbuild/bbs-3.14-bioc/R/bin/R CMD build --keep-empty-dirs --no-resave-data MIGSAdata
StartedAt: 2021-10-16 11:27:28 -0400 (Sat, 16 Oct 2021)
EndedAt: 2021-10-16 11:27:40 -0400 (Sat, 16 Oct 2021)
EllapsedTime: 12.2 seconds
RetCode: 0
Status:   OK  
PackageFile: MIGSAdata_1.17.0.tar.gz
PackageFileSize: 80.42 MiB

Command output

##############################################################################
##############################################################################
###
### Running command:
###
###   /home/biocbuild/bbs-3.14-bioc/R/bin/R CMD build --keep-empty-dirs --no-resave-data MIGSAdata
###
##############################################################################
##############################################################################


* checking for file ‘MIGSAdata/DESCRIPTION’ ... OK
* preparing ‘MIGSAdata’:
* checking DESCRIPTION meta-information ... OK
* checking for LF line-endings in source and make files and shell scripts
* checking for empty or unneeded directories
* looking to see if a ‘data/datalist’ file should be added
* building ‘MIGSAdata_1.17.0.tar.gz’