Back to Build/check report for BioC 3.14 experimental data
ABCDEFGHIJKL[M]NOPQRSTUVWXYZ

This page was generated on 2021-10-23 15:51:47 -0400 (Sat, 23 Oct 2021).

BUILD results for MEDIPSData on nebbiolo2

To the developers/maintainers of the MEDIPSData package:
Make sure to use the following settings in order to reproduce any error or warning you see on this page.

raw results

Package 217/408HostnameOS / ArchINSTALLBUILDCHECK
MEDIPSData 1.29.0  (landing page)
Lukas Chavez
Snapshot Date: 2021-10-23 09:30:01 -0400 (Sat, 23 Oct 2021)
git_url: https://git.bioconductor.org/packages/MEDIPSData
git_branch: master
git_last_commit: a4e9e87
git_last_commit_date: 2021-05-19 11:34:51 -0400 (Wed, 19 May 2021)
nebbiolo2Linux (Ubuntu 20.04.2 LTS) / x86_64  OK    OK    WARNINGS  UNNEEDED, same version is already published

Summary

Package: MEDIPSData
Version: 1.29.0
Command: /home/biocbuild/bbs-3.14-bioc/R/bin/R CMD build --keep-empty-dirs --no-resave-data MEDIPSData
StartedAt: 2021-10-23 11:27:49 -0400 (Sat, 23 Oct 2021)
EndedAt: 2021-10-23 11:28:02 -0400 (Sat, 23 Oct 2021)
EllapsedTime: 12.5 seconds
RetCode: 0
Status:   OK  
PackageFile: MEDIPSData_1.29.0.tar.gz
PackageFileSize: 163.1 MiB

Command output

##############################################################################
##############################################################################
###
### Running command:
###
###   /home/biocbuild/bbs-3.14-bioc/R/bin/R CMD build --keep-empty-dirs --no-resave-data MEDIPSData
###
##############################################################################
##############################################################################


* checking for file ‘MEDIPSData/DESCRIPTION’ ... OK
* preparing ‘MEDIPSData’:
* checking DESCRIPTION meta-information ... OK
* checking for LF line-endings in source and make files and shell scripts
* checking for empty or unneeded directories
* looking to see if a ‘data/datalist’ file should be added
* building ‘MEDIPSData_1.29.0.tar.gz’