Back to Build/check report for BioC 3.14 experimental data
ABCDEFGHIJKL[M]NOPQRSTUVWXYZ

This page was generated on 2021-07-27 15:50:45 -0400 (Tue, 27 Jul 2021).

All results for package MAQCsubsetILM

To the developers/maintainers of the MAQCsubsetILM package:
Make sure to use the following settings in order to reproduce any error or warning you see on this page.

raw results

Package 210/396HostnameOS / ArchINSTALLBUILDCHECK
MAQCsubsetILM 1.31.0  (landing page)
Laurent Gatto
Snapshot Date: 2021-07-27 09:30:01 -0400 (Tue, 27 Jul 2021)
URL: https://git.bioconductor.org/packages/MAQCsubsetILM
Branch: master
Last Commit: 59fdeaa
Last Changed Date: 2021-05-19 11:28:26 -0400 (Wed, 19 May 2021)
nebbiolo2Linux (Ubuntu 20.04.2 LTS) / x86_64  OK    OK    OK  UNNEEDED, same version is already published