Index of /checkResults/devel/data-experiment-LATEST/MAQCsubset/raw-results/nebbiolo2

[ICO]NameLast modifiedSizeDescription

[DIR]Parent Directory  -  
[TXT]buildsrc-out.txt20-Jan-2022 22:37 892  
[   ]buildsrc-summary.dcf20-Jan-2022 22:37 437  
[TXT]checksrc-out.txt20-Jan-2022 22:37 3.8K 
[   ]checksrc-summary.dcf20-Jan-2022 22:37 458  
[TXT]install-out.txt20-Jan-2022 22:37 1.2K 
[   ]install-summary.dcf20-Jan-2022 22:37 276