Back to Build/check report for BioC 3.14 experimental data
ABCDEFGHIJKL[M]NOPQRSTUVWXYZ

This page was generated on 2021-10-21 15:52:03 -0400 (Thu, 21 Oct 2021).

CHECK results for MACSdata on nebbiolo2

To the developers/maintainers of the MACSdata package:
Make sure to use the following settings in order to reproduce any error or warning you see on this page.

raw results

Package 208/406HostnameOS / ArchINSTALLBUILDCHECK
MACSdata 1.1.0  (landing page)
Qiang Hu
Snapshot Date: 2021-10-21 09:30:01 -0400 (Thu, 21 Oct 2021)
git_url: https://git.bioconductor.org/packages/MACSdata
git_branch: master
git_last_commit: 4c7a1af
git_last_commit_date: 2021-05-19 12:11:53 -0400 (Wed, 19 May 2021)
nebbiolo2Linux (Ubuntu 20.04.2 LTS) / x86_64  OK    OK    OK  UNNEEDED, same version is already published

Summary

Package: MACSdata
Version: 1.1.0
Command: /home/biocbuild/bbs-3.14-bioc/R/bin/R CMD check --install=check:MACSdata.install-out.txt --library=/home/biocbuild/bbs-3.14-bioc/R/library --no-vignettes --timings MACSdata_1.1.0.tar.gz
StartedAt: 2021-10-21 12:24:44 -0400 (Thu, 21 Oct 2021)
EndedAt: 2021-10-21 12:24:54 -0400 (Thu, 21 Oct 2021)
EllapsedTime: 10.5 seconds
RetCode: 0
Status:   OK  
CheckDir: MACSdata.Rcheck
Warnings: 0

Command output

##############################################################################
##############################################################################
###
### Running command:
###
###   /home/biocbuild/bbs-3.14-bioc/R/bin/R CMD check --install=check:MACSdata.install-out.txt --library=/home/biocbuild/bbs-3.14-bioc/R/library --no-vignettes --timings MACSdata_1.1.0.tar.gz
###
##############################################################################
##############################################################################


* using log directory ‘/home/biocbuild/bbs-3.14-data-experiment/meat/MACSdata.Rcheck’
* using R version 4.1.1 (2021-08-10)
* using platform: x86_64-pc-linux-gnu (64-bit)
* using session charset: UTF-8
* using option ‘--no-vignettes’
* checking for file ‘MACSdata/DESCRIPTION’ ... OK
* this is package ‘MACSdata’ version ‘1.1.0’
* package encoding: UTF-8
* checking package namespace information ... OK
* checking package dependencies ... OK
* checking if this is a source package ... OK
* checking if there is a namespace ... OK
* checking for hidden files and directories ... OK
* checking for portable file names ... OK
* checking for sufficient/correct file permissions ... OK
* checking whether package ‘MACSdata’ can be installed ... OK
* checking installed package size ... OK
* checking package directory ... OK
* checking DESCRIPTION meta-information ... OK
* checking top-level files ... OK
* checking for left-over files ... OK
* checking index information ... OK
* checking package subdirectories ... OK
* checking R files for non-ASCII characters ... OK
* checking R files for syntax errors ... OK
* checking whether the package can be loaded ... OK
* checking whether the package can be loaded with stated dependencies ... OK
* checking whether the package can be unloaded cleanly ... OK
* checking whether the namespace can be loaded with stated dependencies ... OK
* checking whether the namespace can be unloaded cleanly ... OK
* checking dependencies in R code ... OK
* checking S3 generic/method consistency ... OK
* checking replacement functions ... OK
* checking foreign function calls ... OK
* checking R code for possible problems ... OK
* checking Rd files ... OK
* checking Rd metadata ... OK
* checking Rd cross-references ... OK
* checking for missing documentation entries ... OK
* checking for code/documentation mismatches ... OK
* checking Rd \usage sections ... OK
* checking Rd contents ... OK
* checking for unstated dependencies in examples ... OK
* checking examples ... NONE
* checking PDF version of manual ... OK
* DONE

Status: OK


Installation output

MACSdata.Rcheck/00install.out

##############################################################################
##############################################################################
###
### Running command:
###
###   /home/biocbuild/bbs-3.14-bioc/R/bin/R CMD INSTALL MACSdata
###
##############################################################################
##############################################################################


* installing to library ‘/home/biocbuild/bbs-3.14-bioc/R/library’
* installing *source* package ‘MACSdata’ ...
** using staged installation
** R
** inst
** byte-compile and prepare package for lazy loading
** help
*** installing help indices
** building package indices
** testing if installed package can be loaded from temporary location
** testing if installed package can be loaded from final location
** testing if installed package keeps a record of temporary installation path
* DONE (MACSdata)

Tests output


Example timings