Back to Build/check report for BioC 3.15 experimental data
ABCDEFGHIJK[L]MNOPQRSTUVWXYZ

This page was generated on 2021-11-28 18:35:03 -0500 (Sun, 28 Nov 2021).

INSTALL results for ListerEtAlBSseq on nebbiolo2

To the developers/maintainers of the ListerEtAlBSseq package:
Make sure to use the following settings in order to reproduce any error or warning you see on this page.

raw results

Package 198/404HostnameOS / ArchINSTALLBUILDCHECK
ListerEtAlBSseq 1.27.1  (landing page)
Kamal Kishore
Snapshot Date: 2021-11-28 08:30:02 -0500 (Sun, 28 Nov 2021)
git_url: https://git.bioconductor.org/packages/ListerEtAlBSseq
git_branch: master
git_last_commit: e750ed5
git_last_commit_date: 2021-11-15 13:43:13 -0500 (Mon, 15 Nov 2021)
nebbiolo2Linux (Ubuntu 20.04.3 LTS) / x86_64  OK    OK    WARNINGS  NO, package depends on 'methylPipe' which is not available

Summary

Package: ListerEtAlBSseq
Version: 1.27.1
Command: /home/biocbuild/bbs-3.15-data-experiment/R/bin/R CMD INSTALL ListerEtAlBSseq
StartedAt: 2021-11-28 14:06:44 -0500 (Sun, 28 Nov 2021)
EndedAt: 2021-11-28 14:07:25 -0500 (Sun, 28 Nov 2021)
EllapsedTime: 40.8 seconds
RetCode: 0
Status:   OK  

Command output

##############################################################################
##############################################################################
###
### Running command:
###
###   /home/biocbuild/bbs-3.15-data-experiment/R/bin/R CMD INSTALL ListerEtAlBSseq
###
##############################################################################
##############################################################################


* installing to library ‘/home/biocbuild/bbs-3.15-data-experiment/R/library’
* installing *source* package ‘ListerEtAlBSseq’ ...
** using staged installation
** R
** data
** inst
** byte-compile and prepare package for lazy loading
No methods found in package 'BiocGenerics' for requests: 'clusterApplyLB', 'clusterEvalQ' when loading 'methylPipe'
Warning message:
Package 'methylPipe' is deprecated and will be removed from
  Bioconductor version 3.16 
** help
*** installing help indices
** building package indices
** installing vignettes
** testing if installed package can be loaded from temporary location
No methods found in package 'BiocGenerics' for requests: 'clusterApplyLB', 'clusterEvalQ' when loading 'methylPipe'
Warning: Package 'methylPipe' is deprecated and will be removed from
  Bioconductor version 3.16
Warning: Package 'ListerEtAlBSseq' is deprecated and will be removed from
  Bioconductor version 3.16
** testing if installed package can be loaded from final location
No methods found in package 'BiocGenerics' for requests: 'clusterApplyLB', 'clusterEvalQ' when loading 'methylPipe'
Warning: Package 'methylPipe' is deprecated and will be removed from
  Bioconductor version 3.16
Warning: Package 'ListerEtAlBSseq' is deprecated and will be removed from
  Bioconductor version 3.16
** testing if installed package keeps a record of temporary installation path
* DONE (ListerEtAlBSseq)