Back to Build/check report for BioC 3.15 experimental data
ABCDEFGHIJK[L]MNOPQRSTUVWXYZ

This page was generated on 2021-12-05 17:50:12 -0500 (Sun, 05 Dec 2021).

All results for package ListerEtAlBSseq

To the developers/maintainers of the ListerEtAlBSseq package:
Make sure to use the following settings in order to reproduce any error or warning you see on this page.

raw results

Package 198/404HostnameOS / ArchINSTALLBUILDCHECK
ListerEtAlBSseq 1.27.1  (landing page)
Kamal Kishore
Snapshot Date: 2021-12-05 07:30:02 -0500 (Sun, 05 Dec 2021)
git_url: https://git.bioconductor.org/packages/ListerEtAlBSseq
git_branch: master
git_last_commit: e750ed5
git_last_commit_date: 2021-11-15 13:43:13 -0500 (Mon, 15 Nov 2021)
nebbiolo2Linux (Ubuntu 20.04.3 LTS) / x86_64  OK    OK    WARNINGS  NO, package depends on 'methylPipe' which is not available